BEGIN:VCALENDAR
VERSION:2.0
PRODID:-//ChamberMaster//Event Calendar 2.0//EN
METHOD:PUBLISH
X-PUBLISHED-TTL:P3D
REFRESH-INTERVAL:P3D
CALSCALE:GREGORIAN
BEGIN:VEVENT
DTSTART;VALUE=DATE:20170813
DTEND;VALUE=DATE:20170814
TRANSP:TRANSPARENT
X-MICROSOFT-CDO-ALLDAYEVENT:TRUE
SUMMARY:CNR Millard W. Ickes Century Roping
DESCRIPTION:Come enjoy a "century" of skill and experience at the popular Millard W. Ickes Memorial Century Team Roping Event Sunday\, August 13th\, 2017 at 6pm. \n\n\n\nStarted over 20 years ago on the premise that the combined age of the team \, the header and the heeler\, must equal at least 100 years of age - CNR's Century Roping offers one of the largest purses of any century roping event in the area and draws over 275 of the best roping teams from all over the state.\n\n\n\nThis event is FREE to the public and fans of all ages are invited to attend and cheer their favorite team on.
X-ALT-DESC;FMTTYPE=text/html:<span style="color: rgb(49\, 49\, 49)\; font-family: open_sansregular\, Arial\, Verdana\, sans-serif\; font-size: 12px\;">Come enjoy a &quot\;century&quot\; of skill and experience at the popular Millard W. Ickes Memorial Century Team Roping Event Sunday\, August 13th\, 2017 at 6pm.&nbsp\;</span><br style="color: rgb(49\, 49\, 49)\; font-family: open_sansregular\, Arial\, Verdana\, sans-serif\; font-size: 12px\;" />\n<br style="color: rgb(49\, 49\, 49)\; font-family: open_sansregular\, Arial\, Verdana\, sans-serif\; font-size: 12px\;" />\n<span style="color: rgb(49\, 49\, 49)\; font-family: open_sansregular\, Arial\, Verdana\, sans-serif\; font-size: 12px\;">Started over 20 years ago on the premise that the combined age of the team \, the header and the heeler\, must equal at least 100 years of age - CNR&#39\;s Century Roping offers one of the largest purses of any century roping event in the area and draws over 275 of the best roping teams from all over the state.</span><br style="color: rgb(49\, 49\, 49)\; font-family: open_sansregular\, Arial\, Verdana\, sans-serif\; font-size: 12px\;" />\n<br style="color: rgb(49\, 49\, 49)\; font-family: open_sansregular\, Arial\, Verdana\, sans-serif\; font-size: 12px\;" />\n<span style="color: rgb(49\, 49\, 49)\; font-family: open_sansregular\, Arial\, Verdana\, sans-serif\; font-size: 12px\;">This event is FREE to the public and fans of all ages are invited to attend and cheer their favorite team on.</span>
LOCATION:Caldwell Night Rodeo
UID:e.2335.2770
SEQUENCE:3
DTSTAMP:20260422T012812Z
URL:https://business.caldwellchamber.org/events/details/cnr-millard-w-ickes-century-roping-2770
END:VEVENT

END:VCALENDAR
