BEGIN:VCALENDAR
VERSION:2.0
PRODID:-//ChamberMaster//Event Calendar 2.0//EN
METHOD:PUBLISH
X-PUBLISHED-TTL:P3D
REFRESH-INTERVAL:P3D
CALSCALE:GREGORIAN
BEGIN:VEVENT
DTSTART:20170812T140000Z
DTEND:20170812T140000Z
X-MICROSOFT-CDO-ALLDAYEVENT:FALSE
SUMMARY:CNR "Power of Pink" walk/run
DESCRIPTION:Wear your pink and help us give cancer the boot at the 10th Annual CNR "Power of Pink" Walk/Run on Saturday\, August 12th\, 2017. Registration begins at 8am and walk begins at 8:30am. Tons of prizes\, auction items and raffles. Grab your friends and create a team in honor of someone who has or has had breast cancer ----or walk with the CNR Team to help spread the word about the importance of mammograms and early detection. Funds raised from the walk will go towards CNR's "Power of Pink" Program which provides free breast cancer screenings to Treasure Valley women who are uninsured\, underinsured or underserved. \n\n\n\nCall Kathy Ward at 208-573-9267 for more information or download the registration form below.
X-ALT-DESC;FMTTYPE=text/html:<span style="color: rgb(49\, 49\, 49)\; font-family: open_sansregular\, Arial\, Verdana\, sans-serif\; font-size: 12px\;">Wear your pink and help us give cancer the boot at the 10th Annual CNR &quot\;Power of Pink&quot\; Walk/Run on Saturday\, August 12th\, 2017. Registration begins at 8am and walk begins at 8:30am. Tons of prizes\, auction items and raffles. Grab your friends and create a team in honor of someone who has or has had breast cancer ----or walk with the CNR Team to help spread the word about the importance of mammograms and early detection. Funds raised from the walk will go towards CNR&#39\;s &quot\;Power of Pink&quot\; Program which provides free breast cancer screenings to Treasure Valley women who are uninsured\, underinsured or underserved.&nbsp\;</span><br style="color: rgb(49\, 49\, 49)\; font-family: open_sansregular\, Arial\, Verdana\, sans-serif\; font-size: 12px\;" />\n<br style="color: rgb(49\, 49\, 49)\; font-family: open_sansregular\, Arial\, Verdana\, sans-serif\; font-size: 12px\;" />\n<span style="color: rgb(49\, 49\, 49)\; font-family: open_sansregular\, Arial\, Verdana\, sans-serif\; font-size: 12px\;">Call Kathy Ward at 208-573-9267 for more information or download the registration form below.</span>
LOCATION:Caldwell Night Rodeo
UID:e.2335.2769
SEQUENCE:3
DTSTAMP:20260422T012946Z
URL:https://business.caldwellchamber.org/events/details/cnr-power-of-pink-walk-run-2769
END:VEVENT

END:VCALENDAR
