BEGIN:VCALENDAR
VERSION:2.0
PRODID:-//ChamberMaster//Event Calendar 2.0//EN
METHOD:PUBLISH
X-PUBLISHED-TTL:P3D
REFRESH-INTERVAL:P3D
CALSCALE:GREGORIAN
BEGIN:VEVENT
DTSTART:20171225T000000Z
DTEND:20171225T040000Z
X-MICROSOFT-CDO-ALLDAYEVENT:FALSE
SUMMARY:Community Christmas Eve Service
DESCRIPTION:Event Name:  Community Christmas Eve Service\n\nLocation:  Calvary Chapel Caldwell\n\nAddress:  911 Everett St\, Caldwell\, ID 83605\n\nDates/Times:  Sunday\, December 24\, 2017\, at 5:00 pm & 7:00 pm \n\nContact Name:  Colleen Kinney\n\nContact Number:  208-453-9653\n\nContact Email Address:  colleen.office@calvarycaldwell.com      \n\nContact Website:  www.calvarycaldwell.com\n\nDescription:  Come join us for Christmas Carols and a short message with Pastor Bob on the "True Meaning of Christmas".  New visitors will receive a free latte or Italian soda!
X-ALT-DESC;FMTTYPE=text/html:<p style="margin-top:5.0pt\;margin-right:0in\;margin-bottom:0in\;margin-left:30.0pt\;\nmargin-bottom:.0001pt"><b><span style="font-family:&quot\;Arial&quot\;\,&quot\;sans-serif&quot\;\;\ncolor:black">Event Name: &nbsp\;Community Christmas Eve Service</span></b><o:p></o:p></p>\n\n<p style="margin-top:5.0pt\;margin-right:0in\;margin-bottom:0in\;margin-left:30.0pt\;\nmargin-bottom:.0001pt"><b><span style="font-family:&quot\;Arial&quot\;\,&quot\;sans-serif&quot\;\;\ncolor:black">Location: &nbsp\;Calvary Chapel Caldwell</span></b><o:p></o:p></p>\n\n<p style="margin-top:5.0pt\;margin-right:0in\;margin-bottom:0in\;margin-left:30.0pt\;\nmargin-bottom:.0001pt"><b><span style="font-family:&quot\;Arial&quot\;\,&quot\;sans-serif&quot\;\;\ncolor:black">Address: &nbsp\;911 Everett St\, Caldwell\, ID 83605</span></b><o:p></o:p></p>\n\n<p style="margin-top:5.0pt\;margin-right:0in\;margin-bottom:0in\;margin-left:30.0pt\;\nmargin-bottom:.0001pt"><b><span style="font-family:&quot\;Arial&quot\;\,&quot\;sans-serif&quot\;\;\ncolor:black">Dates/Times:&nbsp\; Sunday\, December 24\, 2017\, at 5:00 pm &amp\; 7:00 pm </span></b><o:p></o:p></p>\n\n<p style="margin-top:5.0pt\;margin-right:0in\;margin-bottom:0in\;margin-left:30.0pt\;\nmargin-bottom:.0001pt"><b><span style="font-family:&quot\;Arial&quot\;\,&quot\;sans-serif&quot\;\;\ncolor:black">Contact Name: &nbsp\;Colleen Kinney</span></b><o:p></o:p></p>\n\n<p style="margin-top:5.0pt\;margin-right:0in\;margin-bottom:0in\;margin-left:30.0pt\;\nmargin-bottom:.0001pt"><b><span style="font-family:&quot\;Arial&quot\;\,&quot\;sans-serif&quot\;\;\ncolor:black">Contact Number: &nbsp\;<a href="tel:%28208%29%20453-9653" target="_blank">208-453-9653</a></span></b><o:p></o:p></p>\n\n<p style="margin-top:5.0pt\;margin-right:0in\;margin-bottom:0in\;margin-left:30.0pt\;\nmargin-bottom:.0001pt"><b><span style="font-family:&quot\;Arial&quot\;\,&quot\;sans-serif&quot\;\;\ncolor:black">Contact Email Address: &nbsp\;<a href="mailto:colleen.office@calvarycaldwell.com" target="_blank">colleen.office@calvarycaldwell.com</a>&nbsp\;&nbsp\;&nbsp\;&nbsp\;&nbsp\; </span></b><o:p></o:p></p>\n\n<p style="margin-top:5.0pt\;margin-right:0in\;margin-bottom:0in\;margin-left:30.0pt\;\nmargin-bottom:.0001pt"><b><span style="font-family:&quot\;Arial&quot\;\,&quot\;sans-serif&quot\;\;\ncolor:black">Contact Website: &nbsp\;</span></b><b><span style="font-family:\n&quot\;Arial Narrow&quot\;\,&quot\;sans-serif&quot\;\;color:#073763"><a href="http://www.calvarycaldwell.com/" target="_blank"><span style="font-family:\n&quot\;Arial&quot\;\,&quot\;sans-serif&quot\;">www.calvarycaldwell.com</span></a></span></b><o:p></o:p></p>\n\n<p style="margin-top:5.0pt\;margin-right:0in\;margin-bottom:0in\;margin-left:30.0pt\;\nmargin-bottom:.0001pt"><b><span style="font-family:&quot\;Arial&quot\;\,&quot\;sans-serif&quot\;\;\ncolor:black">Description: &nbsp\;Come join us for Christmas Carols and a short message with Pastor Bob on the &ldquo\;True Meaning of Christmas&rdquo\;.&nbsp\; New visitors will receive a free latte or Italian soda!</span></b><o:p></o:p></p>\n
LOCATION:911 Everett St\, Caldwell\, ID 83605
UID:e.2335.2955
SEQUENCE:3
DTSTAMP:20260422T074023Z
URL:https://business.caldwellchamber.org/events/details/community-christmas-eve-service-2955
END:VEVENT

END:VCALENDAR
