BEGIN:VCALENDAR
VERSION:2.0
PRODID:-//ChamberMaster//Event Calendar 2.0//EN
METHOD:PUBLISH
X-PUBLISHED-TTL:P3D
REFRESH-INTERVAL:P3D
CALSCALE:GREGORIAN
BEGIN:VEVENT
DTSTART;VALUE=DATE:20180305
DTEND;VALUE=DATE:20180307
TRANSP:TRANSPARENT
X-MICROSOFT-CDO-ALLDAYEVENT:TRUE
SUMMARY:Conference on Housing and Economic Development by Idaho housing and Finance Association
DESCRIPTION:Please share this in your newsletter this week.  Thanks!\n\nConference on Housing and Economic Development   Keynote Only Tickets (March 5-6\, 2018   Boise Centre)\n\nCan't make the entire conference? Don't be left out!  Even if you only have a morning or lunch to spare\, you can still hear up to three world-class keynote speakers. It won't just be facts and figures - our lineup will paint a vivid picture of the current and next trends in housing\, economics\, cities\, and technology that will have you thinking differently. Learn about the keynotes and reserve your spot today!
X-ALT-DESC;FMTTYPE=text/html:<span style="font-family:arial\,sans-serif\;"><span style="font-size:12.0pt\;">P<span style="color:#444444\;">lease </span>share this in your <span style="color:#444444\;">newsletter </span>this week.&nbsp\; <span style="color:#444444\;">Thanks!</span></span></span><br />\n<strong><span style="color:#444444\;"><span style="font-family:arial\,sans-serif\;"><span style="font-size:15.0pt\;">Conference on Housing and Economic Development &ndash\; Keynote Only Tickets (March 5-6\, 2018 &ndash\; Boise Centre)</span></span></span></strong><br />\n<strong><span style="color:#444444\;"><span style="font-family:arial\,sans-serif\;"><span style="font-size:11.5pt\;">Can&#39\;t make the entire conference? Don&#39\;t be left out!&nbsp\; </span></span></span></strong><span style="color:#444444\;"><span style="font-family:arial\,sans-serif\;"><span style="font-size:11.5pt\;">Even if you only have a morning or lunch to spare\, you can still hear up to three world-class keynote speakers. It won&#39\;t just be facts and figures - our lineup will paint a vivid picture of the current and next trends in housing\, economics\, cities\, and technology that will have you thinking differently. Learn about the keynotes and reserve your spot <a href="http://www.2018housingconf.com/">today</a><a href="https://www.idahohousing.com/housing-conference/">!</a> &nbsp\;</span></span></span>
LOCATION:
UID:e.2335.2990
SEQUENCE:3
DTSTAMP:20260422T123437Z
URL:https://business.caldwellchamber.org/events/details/conference-on-housing-and-economic-development-by-idaho-housing-and-finance-association-2990
END:VEVENT

END:VCALENDAR
