BEGIN:VCALENDAR
VERSION:2.0
PRODID:-//ChamberMaster//Event Calendar 2.0//EN
METHOD:PUBLISH
X-PUBLISHED-TTL:P3D
REFRESH-INTERVAL:P3D
CALSCALE:GREGORIAN
BEGIN:VEVENT
DTSTART:20180928T233000Z
DTEND:20180929T020000Z
X-MICROSOFT-CDO-ALLDAYEVENT:FALSE
SUMMARY:Cool Summer Nights & CreekFeast Food Jam
DESCRIPTION:Pick up dinner from a food truck on the Plaza or a local restaurant and enjoy a community feast on the Plaza! Each week will feature different activities and entertainment such as Friday Night Game Night\, the Plaza Hustle\, and themed dance nights.
X-ALT-DESC;FMTTYPE=text/html:Pick up dinner from a food truck on the Plaza or a local restaurant and enjoy a community feast on the Plaza! Each week will feature different activities and entertainment such as Friday Night Game Night\, the Plaza Hustle\, and themed dance nights.
LOCATION:Indian Creek Plaza
UID:e.2335.4308
SEQUENCE:3
DTSTAMP:20260423T042305Z
URL:https://business.caldwellchamber.org/events/details/cool-summer-nights-creekfeast-food-jam-09-28-2018-4308
END:VEVENT

END:VCALENDAR
