BEGIN:VCALENDAR
VERSION:2.0
PRODID:-//ChamberMaster//Event Calendar 2.0//EN
METHOD:PUBLISH
X-PUBLISHED-TTL:P3D
REFRESH-INTERVAL:P3D
CALSCALE:GREGORIAN
BEGIN:VEVENT
DTSTART:20170305T003000Z
DTEND:20170305T033000Z
X-MICROSOFT-CDO-ALLDAYEVENT:FALSE
SUMMARY:Deer Flat National Wildlife Refuge Evening with the Stars
DESCRIPTION:Are the long winter nights getting you down? Deer Flat National Wildlife Refuge invites families to embrace the season and come to the Refuge for an evening with the stars! Learn how wildlife use the stars to navigate and do some skywatching of your own. There will be activities for the whole family\, including story-time (in both English and Spanish) and the College of Idaho's StarLab. There will be a short presentation at dusk\, followed by an hour of stargazing with volunteers and telescopes from the Boise Astronomical Society. Night Sky Pocket Guides will be available for purchase (cash or check) at the Friends of Deer Flat Nature Store.\n\n\n\nThose who are interested can also learn about the night sky before the event by checking out a community-based scale model of the solar system. The Caldwell Public Library is the sun\, the center of the solar system. The Refuge is the last planet\, Neptune. Other solar system objects are scattered on their orbits elsewhere in the community. Community members are encouraged to watch for clues to locations on the Refuge Facebook page (facebook.com/DeerFlatNWR/) and upload a stellar selfie with the sun\, planet\, or asteroid belt. Each person submitting a selfie will be entered into a drawing to win a bird feeder. \n\n\n\nThe U.S. Fish and Wildlife Service is committed to providing access to this event for all participants. Please direct requests for sign language interpreting services\, closed captioning\, or other accommodation needs to Susan Kain (208-467-9278\, deerflat@fws.gov\, TTY 800-877-8339) by close of business 10 days before the event.
X-ALT-DESC;FMTTYPE=text/html:<span style="color:black\;">Are the long winter nights getting you down? Deer Flat National Wildlife Refuge invites families to embrace the season and come to the Refuge for an evening with the stars! Learn how wildlife use the stars to navigate and do some skywatching of your own. There will be activities for the whole family\, including story-time (in both English and Spanish) and the College of Idaho&rsquo\;s StarLab. There will be a short presentation at dusk\, followed by an hour of stargazing with volunteers and telescopes from the Boise Astronomical Society. Night Sky Pocket Guides will be available for purchase (cash or check) at the Friends of Deer Flat Nature Store.</span><br />\n<br />\n<span style="color:black\;">Those who are interested can also learn about the night sky before the event by checking out a community-based scale model of the solar system. The Caldwell Public Library is the sun\, the center of the solar system. The Refuge is the last planet\, Neptune. Other solar system objects are scattered on their orbits elsewhere in the community. Community members are encouraged to watch for clues to locations on the Refuge Facebook page (</span><a href="https://www.facebook.com/DeerFlatNWR">facebook.com/DeerFlatNWR/</a><span style="color:black\;">) and upload a stellar selfie with the sun\, planet\, or asteroid belt. Each person submitting a selfie will be entered into a drawing to win a bird feeder.&nbsp\;<br />\n<br />\nThe U.S. Fish and Wildlife Service is committed to providing access to this event for all participants. Please direct requests for sign language interpreting&nbsp\;services\, closed captioning\, or other accommodation needs to Susan Kain (208-467-9278\, </span><a href="mailto:deerflat@fws.gov">deerflat@fws.gov</a><span style="color:black\;">\, TTY&nbsp\;800-877-8339) by close of business 10 days before the event.</span><br />\n&nbsp\;
LOCATION:Deer Flat National Wildlife Refuge Visitor Center Intersection of Roosevelt and Indiana in Nampa
UID:e.2335.2238
SEQUENCE:3
DTSTAMP:20260421T173212Z
URL:https://business.caldwellchamber.org/events/details/deer-flat-national-wildlife-refuge-evening-with-the-stars-2238
END:VEVENT

END:VCALENDAR
