BEGIN:VCALENDAR
VERSION:2.0
PRODID:-//ChamberMaster//Event Calendar 2.0//EN
METHOD:PUBLISH
X-PUBLISHED-TTL:P3D
REFRESH-INTERVAL:P3D
CALSCALE:GREGORIAN
BEGIN:VEVENT
DTSTART:20250318T160000Z
DTEND:20250320T180000Z
X-MICROSOFT-CDO-ALLDAYEVENT:FALSE
SUMMARY:Dr. Seuss Camp (ages 6-9)
DESCRIPTION:Join our amazing staff for a multiday\, 2 hour drop off camp to experiment\, craft\, and learn through the silly tales of Dr. Suess!
X-ALT-DESC;FMTTYPE=text/html:Join our amazing staff for a multiday\, 2 hour drop off camp to experiment\, craft\, and learn through the silly tales of Dr. Suess!
LOCATION:The Children's Museum of Idaho\, 790 S. Progress Ave.\, Meridian\, ID 83642
UID:e.2335.6609
SEQUENCE:3
DTSTAMP:20260421T140203Z
URL:https://business.caldwellchamber.org/events/details/dr-seuss-camp-ages-6-9-6609
END:VEVENT

END:VCALENDAR
