BEGIN:VCALENDAR
VERSION:2.0
PRODID:-//ChamberMaster//Event Calendar 2.0//EN
METHOD:PUBLISH
X-PUBLISHED-TTL:P3D
REFRESH-INTERVAL:P3D
CALSCALE:GREGORIAN
BEGIN:VEVENT
DTSTART:20191207T210000Z
DTEND:20191208T030000Z
X-MICROSOFT-CDO-ALLDAYEVENT:FALSE
SUMMARY:Drosselmeyer's Toy Shoppe - A Nutcracker Prequel
DESCRIPTION:Pivotal Dance Company is proud to present "Drosselmeyer's Toy Shoppe - A Nutcracker Prequel"\, choreographed by artistic director Heidi LuMaye. Family fun for all ages! Experience a glimpse into Drosselmeyer's magical Toy Shoppe - his wacky holiday creations of Dancing Dolls\, Toy Soldiers\, and Merry Marrionettes! See what happens when the toys come to life before the Nutcracker! We are proud to be partnering with Toys for Tots this holiday season! Families that bring a new\, unwrapped toy to our 2pm performance will receive a pass for a meet-and-greet with the cast after the show!
X-ALT-DESC;FMTTYPE=text/html:Pivotal Dance Company is proud to present &quot\;Drosselmeyer&#39\;s Toy Shoppe - A Nutcracker Prequel&quot\;\, choreographed by artistic director Heidi LuMaye. Family fun for all ages! Experience a glimpse into Drosselmeyer&#39\;s magical Toy Shoppe - his wacky holiday creations of Dancing Dolls\, Toy Soldiers\, and Merry Marrionettes! See what happens when the toys come to life before the Nutcracker! We are proud to be partnering with Toys for Tots this holiday season! Families that bring a new\, unwrapped toy to our 2pm performance will receive a pass for a meet-and-greet with the cast after the show!
LOCATION:Jewett Auditorium @ the College of Idaho 2112 Cleveland Blvd Caldwell\, ID 83605
UID:e.2335.5444
SEQUENCE:3
DTSTAMP:20260423T234338Z
URL:https://business.caldwellchamber.org/events/details/drosselmeyer-s-toy-shoppe-a-nutcracker-prequel-5444
END:VEVENT

END:VCALENDAR
