BEGIN:VCALENDAR
VERSION:2.0
PRODID:-//ChamberMaster//Event Calendar 2.0//EN
METHOD:PUBLISH
X-PUBLISHED-TTL:P3D
REFRESH-INTERVAL:P3D
CALSCALE:GREGORIAN
BEGIN:VEVENT
DTSTART:20160920T190000Z
DTEND:20160920T200000Z
X-MICROSOFT-CDO-ALLDAYEVENT:FALSE
SUMMARY:Education Committee
DESCRIPTION:The chamber values the youth of our community.  We support and participate in the Caldwell Educational school system at all levels.  The chamber committee supports\, educates and promotes workforce development thru our colleges and other local educational avenues.
X-ALT-DESC;FMTTYPE=text/html:The chamber values the youth of our community. &nbsp\;We support and participate in the Caldwell Educational school system at all levels. &nbsp\;The chamber committee supports\, educates and promotes workforce development thru our colleges and other local educational avenues.
LOCATION:The College of Idaho Kathryn Albertson International Center Room 203
UID:e.2335.1479
SEQUENCE:3
DTSTAMP:20260421T154143Z
URL:https://business.caldwellchamber.org/events/details/education-committee-09-20-2016-1479
END:VEVENT

END:VCALENDAR
