BEGIN:VCALENDAR
VERSION:2.0
PRODID:-//ChamberMaster//Event Calendar 2.0//EN
METHOD:PUBLISH
X-PUBLISHED-TTL:P3D
REFRESH-INTERVAL:P3D
CALSCALE:GREGORIAN
BEGIN:VEVENT
DTSTART:20180615T140000Z
DTEND:20180615T180000Z
X-MICROSOFT-CDO-ALLDAYEVENT:FALSE
SUMMARY:Elder Justice Training hosted by the Nampa Family Justice Center
DESCRIPTION:Elder abuse is often a silent crime.  Most of us never see it because most victims are abused behind closed doors by their own family members or other trusted person.  It has no boundaries\, occurs anywhere\, anytime with all races\, religions and cultures\, rich and poor.\n\n \n\nThis event is intended to provide us with knowledge and awareness about elder abuse in our community.   The speakers are all professionals in the field with years of experience and sure to provide meaningful information on this topic.\n\n \n\nA resource table will be present to provide relevant take home material for every interested participant.\n\n \n\nWho:                     Service providers\, caregivers\, professionals\, social workers\, community members\, advocates and anyone who works with\, knows\,  loves\, or is an older person.\n\nWhen:                  June 15\, 2018\n\nWhere:                 Nampa Police Department\, "Baker" room\n\n                                820 2nd St. So.\, Nampa 83651\n\nTime:                     8:00 a.m. to 12:00 p.m.\n\nCost:                      Free\n\nRSVP                     Seating is limited\, please complete and return attached registration form \n\n \n\nA certificate of completion will be provided to each participant at the end of the training.\n\n \n\n \n\n \n\nJeannie Strohmeyer\, LSW\n\nNampa Family Justice Center\n\nClient Service Coordinator\n\n1305 3rd St. S\n\nNampa ID 83651\n\n208-475-5702 (desk)\n\n208-475-5710 (fax)
X-ALT-DESC;FMTTYPE=text/html:<span style="language:en-US\;">Elder abuse is often a silent crime.&nbsp\; Most of us never see it because most victims are abused behind closed doors by their own family members or other trusted person.&nbsp\; It has no boundaries\, occurs anywhere\, anytime with all races\, religions and cultures\, rich and poor.</span><br />\n&nbsp\;<br />\n<span style="language:en-US\;">This event is intended to provide us with knowledge and awareness about elder abuse in our community.&nbsp\;&nbsp\; The speakers are all professionals in the field with years of experience and sure to provide meaningful information on this topic.</span><br />\n&nbsp\;<br />\n<span style="language:en-US\;">A resource table will be present to provide relevant take home material for every interested participant.</span><br />\n&nbsp\;<br />\n<span style="language:en-US\;">Who:&nbsp\;&nbsp\;&nbsp\;&nbsp\;&nbsp\;&nbsp\;&nbsp\;&nbsp\;&nbsp\;&nbsp\;&nbsp\;&nbsp\;&nbsp\;&nbsp\;&nbsp\;&nbsp\;&nbsp\;&nbsp\;&nbsp\;&nbsp\; Service providers\, caregivers\, professionals\, social workers\, community members\, advocates and anyone who works with\, knows\,&nbsp\; loves\, or </span><span style="text-decoration:underline\;text-underline:single\;language:en-US\;"><span style="font-family:calibri\;">is</span></span><span style="language:en-US\;"> an older person.</span><br />\n<span style="language:en-US\;">When:&nbsp\;&nbsp\;&nbsp\;&nbsp\;&nbsp\;&nbsp\;&nbsp\;&nbsp\;&nbsp\;&nbsp\;&nbsp\;&nbsp\;&nbsp\;&nbsp\;&nbsp\;&nbsp\;&nbsp\; June 15\, 2018</span><br />\n<span style="language:en-US\;">Where: &nbsp\;&nbsp\;&nbsp\;&nbsp\;&nbsp\;&nbsp\;&nbsp\;&nbsp\;&nbsp\;&nbsp\;&nbsp\;&nbsp\;&nbsp\;&nbsp\;&nbsp\; Nampa Police Department\, &ldquo\;Baker&rdquo\; room</span><br />\n<span style="language:en-US\;">&nbsp\;&nbsp\;&nbsp\;&nbsp\;&nbsp\;&nbsp\;&nbsp\;&nbsp\;&nbsp\;&nbsp\;&nbsp\;&nbsp\;&nbsp\;&nbsp\;&nbsp\;&nbsp\;&nbsp\;&nbsp\;&nbsp\;&nbsp\;&nbsp\;&nbsp\;&nbsp\;&nbsp\;&nbsp\;&nbsp\;&nbsp\;&nbsp\;&nbsp\;&nbsp\;&nbsp\; 820 2</span><span style="language:en-US\;"><span style="font-family:calibri\;"><sup>nd</sup></span></span><span style="language:en-US\;"> St. So.\, Nampa 83651</span><br />\n<span style="language:en-US\;">Time:&nbsp\;&nbsp\;&nbsp\;&nbsp\;&nbsp\;&nbsp\;&nbsp\;&nbsp\;&nbsp\;&nbsp\;&nbsp\;&nbsp\;&nbsp\;&nbsp\;&nbsp\;&nbsp\;&nbsp\;&nbsp\;&nbsp\;&nbsp\; 8:00 a.m. to 12:00 p.m.</span><br />\n<span style="language:en-US\;">Cost:&nbsp\;&nbsp\;&nbsp\;&nbsp\;&nbsp\;&nbsp\;&nbsp\;&nbsp\;&nbsp\;&nbsp\;&nbsp\;&nbsp\;&nbsp\;&nbsp\;&nbsp\;&nbsp\;&nbsp\;&nbsp\;&nbsp\;&nbsp\;&nbsp\; Free</span><br />\n<span style="language:en-US\;"><span style="color:red\;"><span style="font-family:calibri\;">RSVP&nbsp\;&nbsp\;&nbsp\;&nbsp\;&nbsp\;&nbsp\;&nbsp\;&nbsp\;&nbsp\;&nbsp\;&nbsp\;&nbsp\;&nbsp\;&nbsp\;&nbsp\;&nbsp\;&nbsp\;&nbsp\;&nbsp\;&nbsp\; Seating is limited\, please complete and return attached registration form </span></span></span><br />\n&nbsp\;<br />\n<span style="font-style:italic\;language:en-US\;"><span style="font-family:calibri\;">A certificate of completion will be provided to each participant at the end of the training.</span></span><br />\n&nbsp\;<br />\n&nbsp\;<br />\n&nbsp\;<br />\n<span style="font-style:italic\;language:en-US\;"><span style="color:#7030A0\;"><span style="font-family:centaur\;">Jeannie Strohmeyer\, LSW</span></span></span><br />\n<span style="font-style:italic\;language:en-US\;"><span style="color:#7030A0\;"><span style="font-family:centaur\;">Nampa Family Justice Center</span></span></span><br />\n<span style="font-style:italic\;language:en-US\;"><span style="color:#7030A0\;"><span style="font-family:centaur\;">Client Service Coordinator</span></span></span><br />\n<span style="font-style:italic\;language:en-US\;"><span style="color:#7030A0\;"><span style="font-family:centaur\;">1305 3</span></span></span><span style="font-style:italic\;language:en-US\;"><span style="color:#7030A0\;"><span style="font-family:centaur\;"><sup>rd</sup></span></span></span><span style="font-style:italic\;language:en-US\;"><span style="color:#7030A0\;"><span style="font-family:centaur\;"> St. S</span></span></span><br />\n<span style="font-style:italic\;language:en-US\;"><span style="color:#7030A0\;"><span style="font-family:centaur\;">Nampa ID 83651</span></span></span><br />\n<span style="font-style:italic\;language:en-US\;"><span style="color:#7030A0\;"><span style="font-family:centaur\;">208-475-5702 (desk)</span></span></span><br />\n<span style="font-style:italic\;language:en-US\;"><span style="color:#7030A0\;"><span style="font-family:centaur\;">208-475-5710 (fax)</span></span></span><br />\n&nbsp\;
LOCATION:
UID:e.2335.3436
SEQUENCE:3
DTSTAMP:20260422T215000Z
URL:https://business.caldwellchamber.org/events/details/elder-justice-training-hosted-by-the-nampa-family-justice-center-3436
END:VEVENT

END:VCALENDAR
