BEGIN:VCALENDAR
VERSION:2.0
PRODID:-//ChamberMaster//Event Calendar 2.0//EN
METHOD:PUBLISH
X-PUBLISHED-TTL:P3D
REFRESH-INTERVAL:P3D
CALSCALE:GREGORIAN
BEGIN:VEVENT
DTSTART:20190804T220000Z
DTEND:20190805T040000Z
X-MICROSOFT-CDO-ALLDAYEVENT:FALSE
SUMMARY:Familias Unidas Fun Fest
DESCRIPTION:This community event benefits Community Council of Idaho's immigration program\, Familias Unidas. Event will be held at Lloyd Square in Nampa\, Idaho from 4P to 10P. There will be a host of entertainment and gemes from great food\, music\, performances\, beer garden\, raffle prizes and inflatables. Sponsored by Avage Cantina and Valentin's Party Rentals
X-ALT-DESC;FMTTYPE=text/html:This community event benefits Community Council of Idaho&#39\;s immigration program\, Familias Unidas. Event will be held at Lloyd Square in Nampa\, Idaho from 4P to 10P. There will be a host of entertainment and gemes from great food\, music\, performances\, beer garden\, raffle prizes and inflatables. Sponsored by Avage Cantina and Valentin&#39\;s Party Rentals
LOCATION:Lloyd Square 1 14 Ave S\, Nampa\, ID 83651
UID:e.2335.5363
SEQUENCE:3
DTSTAMP:20260423T175807Z
URL:https://business.caldwellchamber.org/events/details/familias-unidas-fun-fest-5363
END:VEVENT

END:VCALENDAR
