BEGIN:VCALENDAR
VERSION:2.0
PRODID:-//ChamberMaster//Event Calendar 2.0//EN
METHOD:PUBLISH
X-PUBLISHED-TTL:P3D
REFRESH-INTERVAL:P3D
CALSCALE:GREGORIAN
BEGIN:VEVENT
DTSTART:20191019T200000Z
DTEND:20191019T220000Z
X-MICROSOFT-CDO-ALLDAYEVENT:FALSE
SUMMARY:Family Afternoon Movie: Aladdin (2019)
DESCRIPTION:Join us for a family-friendly movie and free popcorn! Film is rated PG
X-ALT-DESC;FMTTYPE=text/html:Join us for a family-friendly movie and free popcorn! Film is rated PG
LOCATION:Caldwell Public Library 1010 Dearborn St
UID:e.2335.5413
SEQUENCE:3
DTSTAMP:20260423T222243Z
URL:https://business.caldwellchamber.org/events/details/family-afternoon-movie-aladdin-2019-5413
END:VEVENT

END:VCALENDAR
