BEGIN:VCALENDAR
VERSION:2.0
PRODID:-//ChamberMaster//Event Calendar 2.0//EN
METHOD:PUBLISH
X-PUBLISHED-TTL:P3D
REFRESH-INTERVAL:P3D
CALSCALE:GREGORIAN
BEGIN:VEVENT
DTSTART:20200118T210000Z
DTEND:20200118T230000Z
X-MICROSOFT-CDO-ALLDAYEVENT:FALSE
SUMMARY:Family Afternoon Movie: Maleficent 2
DESCRIPTION:Join us for a family-friendly movie and free popcorn! Film is rated PG This month's Film is Maleficent: Mistress of Evil
X-ALT-DESC;FMTTYPE=text/html:Join us for a family-friendly movie and free popcorn! Film is rated PG This month&#39\;s Film is Maleficent: Mistress of Evil
LOCATION:Caldwell Public Library
UID:e.2335.5480
SEQUENCE:3
DTSTAMP:20260424T012032Z
URL:https://business.caldwellchamber.org/events/details/family-afternoon-movie-maleficent-2-5480
END:VEVENT

END:VCALENDAR
