BEGIN:VCALENDAR
VERSION:2.0
PRODID:-//ChamberMaster//Event Calendar 2.0//EN
METHOD:PUBLISH
X-PUBLISHED-TTL:P3D
REFRESH-INTERVAL:P3D
CALSCALE:GREGORIAN
BEGIN:VEVENT
DTSTART:20190914T200000Z
DTEND:20190914T220000Z
X-MICROSOFT-CDO-ALLDAYEVENT:FALSE
SUMMARY:Family Afternoon Movie: Secret Life of Pets 2
DESCRIPTION:Join us for a family-friendly movie and free popcorn! Film is rated PG Secret Life of Pets 2: Max the terrier encounters canine-intolerant cows\, hostile foxes and a scary turkey when he visits the countryside. Luckily for Max\, he soon catches a break when he meets Rooster\, a gruff farm dog who tries to cure the lovable pooch of his neuroses.
X-ALT-DESC;FMTTYPE=text/html:Join us for a family-friendly movie and free popcorn! Film is rated PG Secret Life of Pets 2: Max the terrier encounters canine-intolerant cows\, hostile foxes and a scary turkey when he visits the countryside. Luckily for Max\, he soon catches a break when he meets Rooster\, a gruff farm dog who tries to cure the lovable pooch of his neuroses.
LOCATION:Caldwell Public Library 1010 Dearborn Street\; Caldwell\, ID 83605
UID:e.2335.5398
SEQUENCE:3
DTSTAMP:20260423T192647Z
URL:https://business.caldwellchamber.org/events/details/family-afternoon-movie-secret-life-of-pets-2-5398
END:VEVENT

END:VCALENDAR
