BEGIN:VCALENDAR
VERSION:2.0
PRODID:-//ChamberMaster//Event Calendar 2.0//EN
METHOD:PUBLISH
X-PUBLISHED-TTL:P3D
REFRESH-INTERVAL:P3D
CALSCALE:GREGORIAN
BEGIN:VEVENT
DTSTART;VALUE=DATE:20190219
DTEND;VALUE=DATE:20190221
TRANSP:TRANSPARENT
X-MICROSOFT-CDO-ALLDAYEVENT:TRUE
SUMMARY:Farm Business Ownership Family Succession Workshop
DESCRIPTION:
X-ALT-DESC;FMTTYPE=text/html:
LOCATION:
UID:e.2335.4681
SEQUENCE:3
DTSTAMP:20260423T110156Z
URL:https://business.caldwellchamber.org/events/details/farm-business-ownership-family-succession-workshop-4681
END:VEVENT

END:VCALENDAR
