BEGIN:VCALENDAR
VERSION:2.0
PRODID:-//ChamberMaster//Event Calendar 2.0//EN
METHOD:PUBLISH
X-PUBLISHED-TTL:P3D
REFRESH-INTERVAL:P3D
CALSCALE:GREGORIAN
BEGIN:VEVENT
DTSTART:20171216T170000Z
DTEND:20171217T000000Z
X-MICROSOFT-CDO-ALLDAYEVENT:FALSE
SUMMARY:FREE-Citizenship Event-Get help with your application for U.S. citizenship
DESCRIPTION:Attorneys and volunteers will help you complete your U.S. citizenship application! (Partial scholarships are available depending on family income.) Please call to make an appointment IN ADVANCE and learn what information and documents you will need: 208-614-1968 Co-sponsored by the Consulate of Mexico\, Idaho Community Council\, IRC\, Catholic Charities of Idaho\, Andrade Legal\, University of Idaho College of Law\, \; there is no charge for this event.
X-ALT-DESC;FMTTYPE=text/html:Attorneys and volunteers will help you complete your U.S. citizenship application! (Partial scholarships are available depending on family income.) Please call to make an appointment IN ADVANCE and learn what information and documents you will need: 208-614-1968 Co-sponsored by the Consulate of Mexico\, Idaho Community Council\, IRC\, Catholic Charities of Idaho\, Andrade Legal\, University of Idaho College of Law\, \; there is no charge for this event.
LOCATION:Our Lady of the Valley Catholic Church\, 1122 W. Linden St.\, Caldwell\, ID
UID:e.2335.2950
SEQUENCE:3
DTSTAMP:20260422T074842Z
URL:https://business.caldwellchamber.org/events/details/free-citizenship-event-get-help-with-your-application-for-u-s-citizenship-2950
END:VEVENT

END:VCALENDAR
