BEGIN:VCALENDAR
VERSION:2.0
PRODID:-//ChamberMaster//Event Calendar 2.0//EN
METHOD:PUBLISH
X-PUBLISHED-TTL:P3D
REFRESH-INTERVAL:P3D
CALSCALE:GREGORIAN
BEGIN:VEVENT
DTSTART:20171130T190000Z
DTEND:20171130T200000Z
X-MICROSOFT-CDO-ALLDAYEVENT:FALSE
SUMMARY:Government Affairs Committee Meeting
DESCRIPTION:The committee mission is to create a useful working relationship between city\, county\, state\, and federal government and the member businesses of the Caldwell Chamber with the purpose of collaborating on projects that bring about economic growth and sustainability to the City of Caldwell.
X-ALT-DESC;FMTTYPE=text/html:The committee mission is to create a useful working relationship between city\, county\, state\, and federal government and the member businesses of the Caldwell Chamber with the purpose&nbsp\;of collaborating on projects that bring about economic growth and sustainability to the City of Caldwell.
LOCATION:Golden Dragon Restaurant 211 S 21st Ave
UID:e.2335.1619
SEQUENCE:3
DTSTAMP:20260422T062634Z
URL:https://business.caldwellchamber.org/events/details/government-affairs-committee-meeting-11-16-2017-1619
END:VEVENT

END:VCALENDAR
