BEGIN:VCALENDAR
VERSION:2.0
PRODID:-//ChamberMaster//Event Calendar 2.0//EN
METHOD:PUBLISH
X-PUBLISHED-TTL:P3D
REFRESH-INTERVAL:P3D
CALSCALE:GREGORIAN
BEGIN:VEVENT
DTSTART:20190522T160000Z
DTEND:20190522T180000Z
X-MICROSOFT-CDO-ALLDAYEVENT:FALSE
SUMMARY:Ground Breaking - Advocates Against Family Violence
DESCRIPTION:
X-ALT-DESC;FMTTYPE=text/html:
LOCATION:1508 Hope Lane Caldwell\, ID 83607
UID:e.2335.5053
SEQUENCE:3
DTSTAMP:20260423T132219Z
URL:https://business.caldwellchamber.org/events/details/ground-breaking-advocates-against-family-violence-5053
END:VEVENT

END:VCALENDAR
