BEGIN:VCALENDAR
VERSION:2.0
PRODID:-//ChamberMaster//Event Calendar 2.0//EN
METHOD:PUBLISH
X-PUBLISHED-TTL:P3D
REFRESH-INTERVAL:P3D
CALSCALE:GREGORIAN
BEGIN:VEVENT
DTSTART:20170624T150000Z
DTEND:20170624T200000Z
X-MICROSOFT-CDO-ALLDAYEVENT:FALSE
SUMMARY:Happy Day Car Show
DESCRIPTION:Calling ALL car enthusiasts! Or any member in the community that is looking for some fun!\n\n\n\nCommunity Council of Idaho\, along with Quilting Bliss\, Hayden Homes\, and Montoya Insurance is hosting the First Annual Happy Day Car Show! Come grab a bite to eat while looking at some spectacular cars in your community all in one place. Walk around and see all the great booths set up for your enjoyment and stay until the end to witness who drives away with Best in Show! There will also be a raffle to participate in. Raffle tickets are only $1 and the prizes are great.\n\n\n\nAll proceeds will go to Community Council of Idaho's Migrant & Seasonal Head Start program. Come support the children in your community while having a blast!\n\n\n\nIf you want to showcase your car then registration starts at 7 a.m. day of the event or you can register online by visiting http://www.communitycouncilofidaho.org/car_show_registration\n\n\n\nSee you June 24th in the parking lot of Community Council of Idaho from 9 a.m. - 2 p.m!
X-ALT-DESC;FMTTYPE=text/html:Calling ALL car enthusiasts! Or any member in the community that is looking for some fun!<br />\n<br />\nCommunity Council of Idaho\, along with Quilting Bliss\, Hayden Homes\, and Montoya Insurance is hosting the First Annual Happy Day Car Show! Come grab a bite to eat while looking at some spectacular cars in your community all in one place. Walk around and see all the great booths set up for your enjoyment and stay until the end to witness who drives away with Best in Show! There will also be a raffle to participate in. Raffle tickets are only $1 and the prizes are great.<br />\n<br />\nAll proceeds will go to Community Council of Idaho&#39\;s Migrant &amp\; Seasonal Head Start program. Come support the children in your community while having a blast!<br />\n<br />\nIf you want to showcase your car then registration starts at 7 a.m. day of the event or you can register online by visiting http://www.communitycouncilofidaho.org/car_show_registration<br />\n<br />\nSee you June 24th in the parking lot of Community Council of Idaho from 9 a.m. - 2 p.m!
LOCATION:Community Council of Idaho Parking Lot. 317 Happy Day Blvd Caldwell ID
UID:e.2335.2739
SEQUENCE:3
DTSTAMP:20260421T220214Z
URL:https://business.caldwellchamber.org/events/details/happy-day-car-show-2739
END:VEVENT

END:VCALENDAR
