BEGIN:VCALENDAR
VERSION:2.0
PRODID:-//ChamberMaster//Event Calendar 2.0//EN
METHOD:PUBLISH
X-PUBLISHED-TTL:P3D
REFRESH-INTERVAL:P3D
CALSCALE:GREGORIAN
BEGIN:VEVENT
DTSTART:20200206T233000Z
DTEND:20200207T010000Z
X-MICROSOFT-CDO-ALLDAYEVENT:FALSE
SUMMARY:Heritage Charter Ribbon Cutting
DESCRIPTION:Heritage Community Charter School is having an Open House and Ribbon Cutting Ceremony for their expansion! Come to celebrate Heritage and enjoy refreshments!
X-ALT-DESC;FMTTYPE=text/html:Heritage Community Charter School is having an Open House and Ribbon Cutting Ceremony for their expansion! Come to celebrate Heritage and enjoy refreshments!
LOCATION:1803 East Ustick Rd.\, Caldwell ID\, 83605
UID:e.2335.5520
SEQUENCE:3
DTSTAMP:20260424T034346Z
URL:https://business.caldwellchamber.org/events/details/heritage-charter-ribbon-cutting-5520
END:VEVENT

END:VCALENDAR
