BEGIN:VCALENDAR
VERSION:2.0
PRODID:-//ChamberMaster//Event Calendar 2.0//EN
METHOD:PUBLISH
X-PUBLISHED-TTL:P3D
REFRESH-INTERVAL:P3D
CALSCALE:GREGORIAN
BEGIN:VEVENT
DTSTART;VALUE=DATE:20180929
DTEND;VALUE=DATE:20180930
TRANSP:TRANSPARENT
X-MICROSOFT-CDO-ALLDAYEVENT:TRUE
SUMMARY:Homegrown Country Music Fest
DESCRIPTION:Ticket required to attend. Hosted by Homegrown Events LLC. Enjoy live country music in all its glory.
X-ALT-DESC;FMTTYPE=text/html:Ticket required to attend. Hosted by Homegrown Events LLC. Enjoy live country music in all its glory.
LOCATION:
UID:e.2335.4362
SEQUENCE:3
DTSTAMP:20260423T025416Z
URL:https://business.caldwellchamber.org/events/details/homegrown-country-music-fest-4362
END:VEVENT

END:VCALENDAR
