BEGIN:VCALENDAR
VERSION:2.0
PRODID:-//ChamberMaster//Event Calendar 2.0//EN
METHOD:PUBLISH
X-PUBLISHED-TTL:P3D
REFRESH-INTERVAL:P3D
CALSCALE:GREGORIAN
BEGIN:VEVENT
DTSTART:20170623T160000Z
DTEND:20170623T180000Z
X-MICROSOFT-CDO-ALLDAYEVENT:FALSE
SUMMARY:HUD Community Development Block Grant Meeting
DESCRIPTION:The City of Caldwell would like to invite you/your organization to participate in an upcoming community stakeholder meeting to help provide feedback and input on the City's HUD Community Development Block Grant (CDBG) program. The meeting will cover the City's Assessment of Impediments to Fair and Affordable Housing and revisions to the Consolidated Plan.\n\n\n\nAttached is a brief survey that will help provide more detailed information on your agencies unique perspective on the challenges that the residents of Caldwell experience and your suggestions on potential remedies. Please\, bring this survey to the meeting or return via email.\n\n\n\nClick Here
X-ALT-DESC;FMTTYPE=text/html:<span style="font-family:calibri\,sans-serif\;"><span style="font-size:11.0pt\;">The City of Caldwell would like to invite you/your organization to participate in an upcoming community stakeholder meeting to help provide feedback and input on the City&rsquo\;s HUD Community Development Block Grant (CDBG) program. The meeting will cover the City&rsquo\;s Assessment of Impediments to Fair and Affordable Housing and revisions to the Consolidated Plan.<br />\n<br />\nAttached is a brief survey that will help provide more detailed information on your agencies unique perspective on the challenges that the residents of Caldwell experience and your suggestions on potential remedies. Please\, bring this survey to the meeting or return via email.</span></span><br />\n<br />\n<a href="https://chambermaster.blob.core.windows.net/userfiles/UserFiles/chambers/2335/File/CaldwellStakeholderQuestionnaire.docx">Click Here</a><br />\n&nbsp\;
LOCATION:Caldwell Community Room Caldwell Police Department
UID:e.2335.2742
SEQUENCE:3
DTSTAMP:20260421T220117Z
URL:https://business.caldwellchamber.org/events/details/hud-community-development-block-grant-meeting-2742
END:VEVENT

END:VCALENDAR
