BEGIN:VCALENDAR
VERSION:2.0
PRODID:-//ChamberMaster//Event Calendar 2.0//EN
METHOD:PUBLISH
X-PUBLISHED-TTL:P3D
REFRESH-INTERVAL:P3D
CALSCALE:GREGORIAN
BEGIN:VEVENT
DTSTART:20180626T220000Z
DTEND:20180627T010000Z
X-MICROSOFT-CDO-ALLDAYEVENT:FALSE
SUMMARY:I-84 Corridor: Caldwell to Nampa Open House
DESCRIPTION:The I-84 Caldwell to Karcher environmental study and traffic analysis will determine long-term improvements between Caldwell and Nampa. ITD will ask you to identify issues and needs to be addressed in the study. You also will have an opportunity to review and comment on ITD's current plans to improve I-84 in Nampa.
X-ALT-DESC;FMTTYPE=text/html:The I-84 Caldwell to Karcher environmental study and traffic analysis will determine long-term improvements between Caldwell and Nampa. ITD will ask you to identify issues and needs to be addressed in the study. You also will have an opportunity to review and comment on ITD&#39\;s current plans to improve&nbsp\;I-84 in Nampa.
LOCATION:Thomas Jefferson Charter School 1209 Adam Smith Ave. Caldwell\, ID
UID:e.2335.4271
SEQUENCE:3
DTSTAMP:20260422T214919Z
URL:https://business.caldwellchamber.org/events/details/i-84-corridor-caldwell-to-nampa-open-house-4271
END:VEVENT

END:VCALENDAR
