BEGIN:VCALENDAR
VERSION:2.0
PRODID:-//ChamberMaster//Event Calendar 2.0//EN
METHOD:PUBLISH
X-PUBLISHED-TTL:P3D
REFRESH-INTERVAL:P3D
CALSCALE:GREGORIAN
BEGIN:VEVENT
DTSTART:20180615T220000Z
DTEND:20180616T010000Z
X-MICROSOFT-CDO-ALLDAYEVENT:FALSE
SUMMARY:I-84 Corridor: Caldwell to Nampa Open House
DESCRIPTION:The I-84 Karcher to Franklin Blvd. project will design and construct improvements to I-84 in Nampa. Construction is expected to begin in late 2018. ITD will present project plans for your review and comment. You also will have an opportunity to identify long term needs for I-84 between Caldwell and Nampa.
X-ALT-DESC;FMTTYPE=text/html:The I-84 Karcher to Franklin Blvd. project will design and construct improvements to I-84 in Nampa. Construction is expected to begin in late 2018. ITD will present project plans for your review and comment. You also will have an opportunity to identify long term needs for I-84 between Caldwell and Nampa.
LOCATION:Hampton Inn 5750 E. Franklin Rd. Nampa\, ID
UID:e.2335.4273
SEQUENCE:3
DTSTAMP:20260422T214835Z
URL:https://business.caldwellchamber.org/events/details/i-84-corridor-caldwell-to-nampa-open-house-4273
END:VEVENT

END:VCALENDAR
