BEGIN:VCALENDAR
VERSION:2.0
PRODID:-//ChamberMaster//Event Calendar 2.0//EN
METHOD:PUBLISH
X-PUBLISHED-TTL:P3D
REFRESH-INTERVAL:P3D
CALSCALE:GREGORIAN
BEGIN:VEVENT
DTSTART:20170506T160000Z
DTEND:20170507T033000Z
X-MICROSOFT-CDO-ALLDAYEVENT:FALSE
SUMMARY:I HEART TREASURE VALLEY
DESCRIPTION:On May 6th from 10am-2pm thousand will join together for the I Heart Treasure Valley Day of serving. Join Volunteers throughout the Treasure Valley coming together in unity to serve our community through extravagant volunteerism. At 7:00 pm thousands more will gather at the Idaho Center\, featuring Internationally-Renowned Motivational speaker NICK VUJICIC!!! His story of Life Without Limbs has inspired millions world wide. There also will be music and worship.
X-ALT-DESC;FMTTYPE=text/html:On May 6th from 10am-2pm thousand will join together for the I Heart Treasure Valley Day of serving. Join Volunteers throughout the Treasure Valley coming together in unity to serve our community through extravagant volunteerism. At 7:00 pm thousands more will gather at the Idaho Center\, featuring Internationally-Renowned Motivational speaker NICK VUJICIC!!! His story of Life Without Limbs has inspired millions world wide. There also will be music and worship.
LOCATION:Ford Idaho Center
UID:e.2335.2500
SEQUENCE:3
DTSTAMP:20260421T203323Z
URL:https://business.caldwellchamber.org/events/details/i-heart-treasure-valley-2500
END:VEVENT

END:VCALENDAR
