BEGIN:VCALENDAR
VERSION:2.0
PRODID:-//ChamberMaster//Event Calendar 2.0//EN
METHOD:PUBLISH
X-PUBLISHED-TTL:P3D
REFRESH-INTERVAL:P3D
CALSCALE:GREGORIAN
BEGIN:VEVENT
DTSTART;VALUE=DATE:20190104
DTEND;VALUE=DATE:20190105
TRANSP:TRANSPARENT
X-MICROSOFT-CDO-ALLDAYEVENT:TRUE
SUMMARY:Ice Skating at the Plaza - DJ Skate Night
DESCRIPTION:Theme Night \n\nSkate to music from a live DJ\n\n\n\nOpen daily :\n\n    November 10\, 2018 - February 23\, 2019 (weather permitting):\n\n\n\n    Sunday -Thursday: 12:00 PM - 8:00 PM\n\n    Friday - Saturday 12:00 PM - 10:00 PM\n\n    \n\n    Please visit website for further information and special events.
X-ALT-DESC;FMTTYPE=text/html:Theme Night&nbsp\;<br />\nSkate to music from a live DJ<br />\n<br />\nOpen daily :<br />\n&nbsp\;&nbsp\;&nbsp\;&nbsp\;November 10\, 2018 - February 23\, 2019 (weather permitting):<br />\n<br />\n&nbsp\;&nbsp\;&nbsp\;&nbsp\;Sunday -Thursday: 12:00 PM - 8:00 PM<br />\n&nbsp\;&nbsp\;&nbsp\;&nbsp\;Friday - Saturday 12:00 PM - 10:00 PM<br />\n&nbsp\;&nbsp\;&nbsp\;&nbsp\;<br />\n&nbsp\;&nbsp\;&nbsp\;&nbsp\;Please visit website for further information and special events.&nbsp\;<br />\n<br />\n&nbsp\;
LOCATION:Ice Ribbon
UID:e.2335.4517
SEQUENCE:3
DTSTAMP:20260423T081223Z
URL:https://business.caldwellchamber.org/events/details/ice-skating-at-the-plaza-dj-skate-night-01-04-2019-4517
END:VEVENT

END:VCALENDAR
