BEGIN:VCALENDAR
VERSION:2.0
PRODID:-//ChamberMaster//Event Calendar 2.0//EN
METHOD:PUBLISH
X-PUBLISHED-TTL:P3D
REFRESH-INTERVAL:P3D
CALSCALE:GREGORIAN
BEGIN:VEVENT
DTSTART;VALUE=DATE:20181215
DTEND;VALUE=DATE:20181216
TRANSP:TRANSPARENT
X-MICROSOFT-CDO-ALLDAYEVENT:TRUE
SUMMARY:Ice Skating at the Plaza - Ugly Christmas Sweater Theme
DESCRIPTION:Skate in your ugly Christmas sweater with friends.\n\n\n\nOpen daily :\n\n    November 10\, 2018 - February 23\, 2019 (weather permitting):\n\n\n\n    Sunday -Thursday: 12:00 PM - 8:00 PM\n\n    Friday - Saturday 12:00 PM - 10:00 PM\n\n    \n\n    Please visit website for further information and special events.
X-ALT-DESC;FMTTYPE=text/html:Skate in your ugly Christmas sweater with friends.<br />\n<br />\nOpen daily :<br />\n&nbsp\;&nbsp\;&nbsp\;&nbsp\;November 10\, 2018 - February 23\, 2019 (weather permitting):<br />\n<br />\n&nbsp\;&nbsp\;&nbsp\;&nbsp\;Sunday -Thursday: 12:00 PM - 8:00 PM<br />\n&nbsp\;&nbsp\;&nbsp\;&nbsp\;Friday - Saturday 12:00 PM - 10:00 PM<br />\n&nbsp\;&nbsp\;&nbsp\;&nbsp\;<br />\n&nbsp\;&nbsp\;&nbsp\;&nbsp\;Please visit website for further information and special events.&nbsp\;<br />\n<br />\n&nbsp\;
LOCATION:Ice Ribbon
UID:e.2335.4497
SEQUENCE:3
DTSTAMP:20260423T071109Z
URL:https://business.caldwellchamber.org/events/details/ice-skating-at-the-plaza-ugly-christmas-sweater-theme-4497
END:VEVENT

END:VCALENDAR
