BEGIN:VCALENDAR
VERSION:2.0
PRODID:-//ChamberMaster//Event Calendar 2.0//EN
METHOD:PUBLISH
X-PUBLISHED-TTL:P3D
REFRESH-INTERVAL:P3D
CALSCALE:GREGORIAN
BEGIN:VEVENT
DTSTART:20260425T180000Z
DTEND:20260425T210000Z
X-MICROSOFT-CDO-ALLDAYEVENT:FALSE
SUMMARY:Idaho British Car Show
DESCRIPTION:Come and enjoy the great outdoors and see 35 dazzling British cars in all their glory. Plus\, enjoy delicious delights from Kilted Kod\, including world-class Fish and Chips\, Chicken and Chips\, and yummy coleslaw. Take advantage of half-price alpaca tours and get to know these beautiful animals up close and personal!!!
X-ALT-DESC;FMTTYPE=text/html:Come and enjoy the great outdoors and see 35 dazzling British cars in all their glory. Plus\, enjoy delicious delights from Kilted Kod\, including world-class Fish and Chips\, Chicken and Chips\, and yummy coleslaw. Take advantage of half-price alpaca tours and get to know these beautiful animals up close and personal!!!
LOCATION:Fireball Alpacas & Yarnageddon 11901 River Rock Ln. in Caldwell\, Idaho 208 473 0373
UID:e.2335.7189
SEQUENCE:3
DTSTAMP:20260422T011457Z
URL:https://business.caldwellchamber.org/events/details/idaho-british-car-show-7189
END:VEVENT

END:VCALENDAR
