BEGIN:VCALENDAR
VERSION:2.0
PRODID:-//ChamberMaster//Event Calendar 2.0//EN
METHOD:PUBLISH
X-PUBLISHED-TTL:P3D
REFRESH-INTERVAL:P3D
CALSCALE:GREGORIAN
BEGIN:VEVENT
DTSTART:20170506T143000Z
DTEND:20170506T183000Z
X-MICROSOFT-CDO-ALLDAYEVENT:FALSE
SUMMARY:Idaho Helping Hand Pet Walk and Fair
DESCRIPTION:Come and join us for our annual Helping Hand Pet Walk and Fair! There will be vendors and raffle prizes to be given away. Proceeds will benefit the Idaho Helping Hand Fund\, Meridian Valley Humane Society Canine Rescue\, Helping Idaho Dogs and Pet Peace of Mind. Great for the entire family. Dogs are welcome!
X-ALT-DESC;FMTTYPE=text/html:Come and join us for our annual Helping Hand Pet Walk and Fair! There will be vendors and raffle prizes to be given away. Proceeds will benefit the Idaho Helping Hand Fund\, Meridian Valley Humane Society Canine Rescue\, Helping Idaho Dogs and Pet Peace of Mind. Great for the entire family. Dogs are welcome!
LOCATION:Julius M. Kleiner Memorial Park 1900 N. Records Ave. Meridian\, ID 83642
UID:e.2335.2229
SEQUENCE:3
DTSTAMP:20260421T203501Z
URL:https://business.caldwellchamber.org/events/details/idaho-helping-hand-pet-walk-and-fair-2229
END:VEVENT

END:VCALENDAR
