BEGIN:VCALENDAR
VERSION:2.0
PRODID:-//ChamberMaster//Event Calendar 2.0//EN
METHOD:PUBLISH
X-PUBLISHED-TTL:P3D
REFRESH-INTERVAL:P3D
CALSCALE:GREGORIAN
BEGIN:VEVENT
DTSTART:20190626T170000Z
DTEND:20190626T190000Z
X-MICROSOFT-CDO-ALLDAYEVENT:FALSE
SUMMARY:If Only I Had Known: A Legal Seminar for Small Businesses
DESCRIPTION:Sometimes "you do not know what you do not know"\, and it is the missing information that can get you or your business into trouble. That's why your Zions Bank Business Resource Center is teaming up with the Hawley Troxell law firm to offer a small business legal forum. Experienced attorneys with different areas of expertise will be sharing their tips and perspectives to help established small business owners or aspiring entrepreneurs learn best practices to avoid common pitfalls. Topics include Limited Liability Companies\, "Brick and Mortar" issues\, and Intellectual Property Protection. About the Presenters: Brad Frazier: Click here to view his bio: http://www.hawleytroxell.com/people/bradlee-r-frazer/ Steve Frinsko: Click here to view his bio: http://www.hawleytroxell.com/people/stephen-m-frinsko/ Justin Cranney: Click here to view his bio: https://hawleytroxell.com/people/justin-cranney/ Special Location & Special Time: This workshop will be held offsite at the Hawley Troxell Law Firm Summit Room. Please note that the start and end times are different than our usual workshop offerings. To register:   Date: Wednesday\, June 26   Time: 10:30 a.m.   1:30 p.m.   Cost: Complimentary with light lunch and beverages provided   Place: Hawley Troxell Law Firm\, Summit Room\, 877 West Main Street\, 10th floor\, Boise   Registration: Email idresources@zionsbank.com or call 208-501-7573 to reserve your seat   Seating: Limited The workshop\, "If Only I Had Known: A Legal Seminar for Small Businesses"\, is offered for informational purposes only\, and should not be construed as legal or other professional advice. Consult with an attorney or other professional concerning your own needs and circumstances. The views and opinions expressed by the speaker are not necessarily those of Zions Bank \, its parent or affiliates. Zions Bank is a division of Zions Bancorporation\, N.A. Member FDIC.
X-ALT-DESC;FMTTYPE=text/html:Sometimes &ldquo\;you do not know what you do not know&rdquo\;\, and it is the missing information that can get you or your business into trouble. That&rsquo\;s why your Zions Bank Business Resource Center is teaming up with the Hawley Troxell law firm to offer a small business legal forum. Experienced attorneys with different areas of expertise will be sharing their tips and perspectives to help established small business owners or aspiring entrepreneurs learn best practices to avoid common pitfalls. Topics include Limited Liability Companies\, &ldquo\;Brick and Mortar&rdquo\; issues\, and Intellectual Property Protection. About the Presenters: Brad Frazier: Click here to view his bio: http://www.hawleytroxell.com/people/bradlee-r-frazer/ Steve Frinsko: Click here to view his bio: http://www.hawleytroxell.com/people/stephen-m-frinsko/ Justin Cranney: Click here to view his bio: https://hawleytroxell.com/people/justin-cranney/ Special Location &amp\; Special Time: This workshop will be held offsite at the Hawley Troxell Law Firm Summit Room. Please note that the start and end times are different than our usual workshop offerings. To register: &bull\; Date: Wednesday\, June 26 &bull\; Time: 10:30 a.m. &ndash\; 1:30 p.m. &bull\; Cost: Complimentary with light lunch and beverages provided &bull\; Place: Hawley Troxell Law Firm\, Summit Room\, 877 West Main Street\, 10th floor\, Boise &bull\; Registration: Email idresources@zionsbank.com or call 208-501-7573 to reserve your seat &bull\; Seating: Limited The workshop\, &ldquo\;If Only I Had Known: A Legal Seminar for Small Businesses&rdquo\;\, is offered for informational purposes only\, and should not be construed as legal or other professional advice. Consult with an attorney or other professional concerning your own needs and circumstances. The views and opinions expressed by the speaker are not necessarily those of Zions Bank&reg\;\, its parent or affiliates. Zions Bank is a division of Zions Bancorporation\, N.A. Member FDIC.
LOCATION:Hawley Troxell Law Firm\, Summit Room\, 877 West Main Street\, 10th floor\, Boise
UID:e.2335.5131
SEQUENCE:3
DTSTAMP:20260423T145728Z
URL:https://business.caldwellchamber.org/events/details/if-only-i-had-known-a-legal-seminar-for-small-businesses-5131
END:VEVENT

END:VCALENDAR
