BEGIN:VCALENDAR
VERSION:2.0
PRODID:-//ChamberMaster//Event Calendar 2.0//EN
METHOD:PUBLISH
X-PUBLISHED-TTL:P3D
REFRESH-INTERVAL:P3D
CALSCALE:GREGORIAN
BEGIN:VEVENT
DTSTART:20160917T000000Z
DTEND:20160917T040000Z
X-MICROSOFT-CDO-ALLDAYEVENT:FALSE
SUMMARY:Indian Creek Festival
DESCRIPTION:Indian Creek Festival\n\nDog Parade\n\nCar Cruise
X-ALT-DESC;FMTTYPE=text/html:Indian Creek Festival<br />\nDog Parade<br />\nCar Cruise
LOCATION:Indian Creek\, Downtown Caldwell
UID:e.2335.957
SEQUENCE:3
DTSTAMP:20260421T154528Z
URL:https://business.caldwellchamber.org/events/details/indian-creek-festival-09-16-2016-957
END:VEVENT

END:VCALENDAR
