BEGIN:VCALENDAR
VERSION:2.0
PRODID:-//ChamberMaster//Event Calendar 2.0//EN
METHOD:PUBLISH
X-PUBLISHED-TTL:P3D
REFRESH-INTERVAL:P3D
CALSCALE:GREGORIAN
BEGIN:VEVENT
DTSTART:20180510T220000Z
DTEND:20180511T000000Z
X-MICROSOFT-CDO-ALLDAYEVENT:FALSE
SUMMARY:Indian Creek Plaza Open House
DESCRIPTION:Destination Caldwell is excited to announce "Sneak Peek #2\," an open house event for the local community featuring a tour of Indian Creek Plaza under construction and details about our Signature Events. The event is free and open to the public\, and we encourage you to invite a friend. Wear comfortable clothing and close-toed shoes.
X-ALT-DESC;FMTTYPE=text/html:Destination Caldwell is excited to announce &quot\;Sneak Peek #2\,&quot\; an open house event for the local community featuring a tour of Indian Creek Plaza under construction and details about our Signature Events. The event is free and open to the public\, and we encourage you to invite a friend. Wear comfortable clothing and close-toed shoes.
LOCATION:Destination Caldwell Office 106 S. Kimball Ave. Caldwell\, ID 83605
UID:e.2335.3412
SEQUENCE:3
DTSTAMP:20260422T155321Z
URL:https://business.caldwellchamber.org/events/details/indian-creek-plaza-open-house-3412
END:VEVENT

END:VCALENDAR
