BEGIN:VCALENDAR
VERSION:2.0
PRODID:-//ChamberMaster//Event Calendar 2.0//EN
METHOD:PUBLISH
X-PUBLISHED-TTL:P3D
REFRESH-INTERVAL:P3D
CALSCALE:GREGORIAN
BEGIN:VEVENT
DTSTART:20170608T170000Z
DTEND:20170608T190000Z
X-MICROSOFT-CDO-ALLDAYEVENT:FALSE
SUMMARY:Inside Secrets to Funding Your Business™
DESCRIPTION:Inside Secrets to Funding Your Business \n\nFind out how to get the financing you need to launch or expand your business. This workshop offers in-depth discussion and review of how to obtain funds for acquisitions\, start-up\, expansion and working capital. Strong emphasis placed on financial statement analysis\, projections\, cash flow\, and successfully presenting your request to a lender.\n\n\n\nThis workshop will cover:\n\n  How to prepare a loan package\, including a business plan and financial projections\n\n  How lenders determine a loan decision and what you can do about it!\n\n  What investors look for when evaluating a deal\n\n  How to prepare\, read and analyze your business financial statements This workshop is typically offered once per month.
X-ALT-DESC;FMTTYPE=text/html:Inside Secrets to Funding Your Business&trade\;<br />\nFind out how to get the financing you need to launch or expand your business. This workshop offers in-depth discussion and review of how to obtain funds for acquisitions\, start-up\, expansion and working capital. Strong emphasis placed on financial statement analysis\, projections\, cash flow\, and successfully presenting your request to a lender.<br />\n<br />\nThis workshop will cover:<br />\n&bull\; How to prepare a loan package\, including a business plan and financial projections<br />\n&bull\; How lenders determine a loan decision and what you can do about it!<br />\n&bull\; What investors look for when evaluating a deal<br />\n&bull\; How to prepare\, read and analyze your business financial statements This workshop is typically offered once per month.<br />\n&nbsp\;
LOCATION:Zions Bank\, Business Resource Center\, 800 W. Main Street\, 6th Floor\, Boise\, ID Parking: Eastman Garage or other downtown garages
UID:e.2335.2343
SEQUENCE:3
DTSTAMP:20260421T220352Z
URL:https://business.caldwellchamber.org/events/details/inside-secrets-to-funding-your-business-06-08-2017-2343
END:VEVENT

END:VCALENDAR
