BEGIN:VCALENDAR
VERSION:2.0
PRODID:-//ChamberMaster//Event Calendar 2.0//EN
METHOD:PUBLISH
X-PUBLISHED-TTL:P3D
REFRESH-INTERVAL:P3D
CALSCALE:GREGORIAN
BEGIN:VEVENT
DTSTART:20161026T170000Z
DTEND:20161026T190000Z
X-MICROSOFT-CDO-ALLDAYEVENT:FALSE
SUMMARY:Inside Secrets to Funding Your Business™
DESCRIPTION:Inside Secrets to Funding Your Business \n\nFind out how to get the financing you need to launch or expand your business. This workshop offers in-depth discussion and review of how to obtain funds for acquisitions\, start-up\, expansion and working capital. Strong emphasis placed on financial statement analysis\, projections\, cash flow\, and successfully presenting your request to a lender. This workshop will cover:\n\n\n\n  How to prepare\, read and analyze your business financial statements\n\n  How to prepare a loan package and pitch your request to a lender\n\n  How lenders determine a loan decision and what you can do about it! This workshop is typically offered once per month.\n\n  Dates: Tuesday\, August 16th / Wednesday\, September 7th / Wednesday\, October 26th / Thursday\, November 10th\n\n  Time: 11:00 a.m. to 1:00 p.m.\n\n  Cost: Complimentary -but you must register to reserve a space\n\n  Place: Zions Bank\, Business Resource Center\, 800 W. Main Street\, 6th Floor\, Boise\, ID\n\n  Parking: Eastman Garage or other downtown garages\n\n  Registration: Email idresources@zionsbank.com or call 208-501-7573 to reserve your seat.\n\n  Seating: Limited to 18
X-ALT-DESC;FMTTYPE=text/html:Inside Secrets to Funding Your Business&trade\;<br />\nFind out how to get the financing you need to launch or expand your business. This workshop offers in-depth discussion and review of how to obtain funds for acquisitions\, start-up\, expansion and working capital. Strong emphasis placed on financial statement analysis\, projections\, cash flow\, and successfully presenting your request to a lender. This workshop will cover:<br />\n<br />\n&bull\; How to prepare\, read and analyze your business financial statements<br />\n&bull\; How to prepare a loan package and pitch your request to a lender<br />\n&bull\; How lenders determine a loan decision and what you can do about it! This workshop is typically offered once per month.<br />\n&bull\; Dates: Tuesday\, August 16th / Wednesday\, September 7th / Wednesday\, October 26th / Thursday\, November 10th<br />\n&bull\; Time: 11:00 a.m. to 1:00 p.m.<br />\n&bull\; Cost: Complimentary -but you must register to reserve a space<br />\n&bull\; Place: Zions Bank\, Business Resource Center\, 800 W. Main Street\, 6th Floor\, Boise\, ID<br />\n&bull\; Parking: Eastman Garage or other downtown garages<br />\n&bull\; Registration: Email idresources@zionsbank.com or call 208-501-7573 to reserve your seat.<br />\n&bull\; Seating: Limited to 18
LOCATION:Zions Bank\, Business Resource Center\, 800 W. Main Street\, 6th Floor\, Boise\, ID
UID:e.2335.1996
SEQUENCE:3
DTSTAMP:20260421T135709Z
URL:https://business.caldwellchamber.org/events/details/inside-secrets-to-funding-your-business-10-26-2016-1996
END:VEVENT

END:VCALENDAR
