BEGIN:VCALENDAR
VERSION:2.0
PRODID:-//ChamberMaster//Event Calendar 2.0//EN
METHOD:PUBLISH
X-PUBLISHED-TTL:P3D
REFRESH-INTERVAL:P3D
CALSCALE:GREGORIAN
BEGIN:VEVENT
DTSTART:20161207T180000Z
DTEND:20161207T200000Z
X-MICROSOFT-CDO-ALLDAYEVENT:FALSE
SUMMARY:Inside Secrets to Funding Your Business™
DESCRIPTION:Inside Secrets to Funding Your Business \n\n\n\nFind out how to get the financing you need to launch or expand your business. This workshop offers in-depth discussion and review of how to obtain funds for acquisitions\, start-up\, expansion and working capital. Strong emphasis placed on financial statement analysis\, projections\, cash flow\, and successfully presenting your request to a lender.\n\nThis workshop will cover:\n\n  How to prepare\, read and analyze your business financial statements\n\n  How to prepare a loan package and pitch your request to a lender\n\n  How lenders determine a loan decision and what you can do about it!\n\n\n\nThis workshop is typically offered once per month.\n\n  Dates: Wednesday\, December 7th\n\n  Time: 11:00 a.m. to 1:00 p.m.\n\n  Cost: Complimentary -but you must register to reserve a space\n\n  Place: Zions Bank\, Business Resource Center\, 800 W. Main Street\, 6th Floor\, Boise\, ID\n\n  Parking: Eastman Garage or other downtown garages\n\n  Registration: Email idresources@zionsbank.com or call 208-501-7573 to reserve your seat.\n\n  Seating: Limited to 18
X-ALT-DESC;FMTTYPE=text/html:Inside Secrets to Funding Your Business&trade\;<br />\n<br />\nFind out how to get the financing you need to launch or expand your business. This workshop offers in-depth discussion and review of how to obtain funds for acquisitions\, start-up\, expansion and working capital. Strong emphasis placed on financial statement analysis\, projections\, cash flow\, and successfully presenting your request to a lender.<br />\nThis workshop will cover:<br />\n&bull\; How to prepare\, read and analyze your business financial statements<br />\n&bull\; How to prepare a loan package and pitch your request to a lender<br />\n&bull\; How lenders determine a loan decision and what you can do about it!<br />\n<br />\nThis workshop is typically offered once per month.<br />\n&bull\; Dates: Wednesday\, December 7th<br />\n&bull\; Time: 11:00 a.m. to 1:00 p.m.<br />\n&bull\; Cost: Complimentary -but you must register to reserve a space<br />\n&bull\; Place: Zions Bank\, Business Resource Center\, 800 W. Main Street\, 6th Floor\, Boise\, ID<br />\n&bull\; Parking: Eastman Garage or other downtown garages<br />\n&bull\; Registration: Email idresources@zionsbank.com or call 208-501-7573 to reserve your seat.<br />\n&bull\; Seating: Limited to 18
LOCATION:Zions Bank\, Business Resource Center\, 800 W. Main Street\, 6th Floor\, Boise\, ID
UID:e.2335.2035
SEQUENCE:3
DTSTAMP:20260421T124106Z
URL:https://business.caldwellchamber.org/events/details/inside-secrets-to-funding-your-business-12-07-2016-2035
END:VEVENT

END:VCALENDAR
