BEGIN:VCALENDAR
VERSION:2.0
PRODID:-//ChamberMaster//Event Calendar 2.0//EN
METHOD:PUBLISH
X-PUBLISHED-TTL:P3D
REFRESH-INTERVAL:P3D
CALSCALE:GREGORIAN
BEGIN:VEVENT
DTSTART:20160907T170000Z
DTEND:20160907T190000Z
X-MICROSOFT-CDO-ALLDAYEVENT:FALSE
SUMMARY:Inside Secrets to Funding Your Business™
DESCRIPTION:Inside Secrets to Funding Your Business  Find out how to get the financing you need to launch or expand your business. This workshop offers in-depth discussion and review of how to obtain funds for acquisitions\, start-up\, expansion and working capital. Strong emphasis placed on financial statement analysis\, projections\, cash flow\, and successfully presenting your request to a lender. This workshop will cover:   How to prepare\, read and analyze your business financial statements   How to prepare a loan package and pitch your request to a lender   How lenders determine a loan decision and what you can do about it! This workshop is typically offered once per month.   Dates: Tuesday\, August 16th / Wednesday\, September 7th / Wednesday\, October 26th / Thursday\, November 10th   Time: 11:00 a.m. to 1:00 p.m.   Cost: Complimentary -but you must register to reserve a space   Place: Zions Bank\, Business Resource Center\, 800 W. Main Street\, 6th Floor\, Boise\, ID   Parking: Eastman Garage or other downtown garages   Registration: Email idresources@zionsbank.com or call 208-501-7573 to reserve your seat.   Seating: Limited to 18
X-ALT-DESC;FMTTYPE=text/html:Inside Secrets to Funding Your Business&trade\; Find out how to get the financing you need to launch or expand your business. This workshop offers in-depth discussion and review of how to obtain funds for acquisitions\, start-up\, expansion and working capital. Strong emphasis placed on financial statement analysis\, projections\, cash flow\, and successfully presenting your request to a lender. This workshop will cover: &bull\; How to prepare\, read and analyze your business financial statements &bull\; How to prepare a loan package and pitch your request to a lender &bull\; How lenders determine a loan decision and what you can do about it! This workshop is typically offered once per month. &bull\; Dates: Tuesday\, August 16th / Wednesday\, September 7th / Wednesday\, October 26th / Thursday\, November 10th &bull\; Time: 11:00 a.m. to 1:00 p.m. &bull\; Cost: Complimentary -but you must register to reserve a space &bull\; Place: Zions Bank\, Business Resource Center\, 800 W. Main Street\, 6th Floor\, Boise\, ID &bull\; Parking: Eastman Garage or other downtown garages &bull\; Registration: Email idresources@zionsbank.com or call 208-501-7573 to reserve your seat. &bull\; Seating: Limited to 18
LOCATION:Zions Bank\, Business Resource Center\, 800 W. Main Street\, 6th Floor\, Boise\, ID
UID:e.2335.1986
SEQUENCE:3
DTSTAMP:20260421T170814Z
URL:https://business.caldwellchamber.org/events/details/inside-secrets-to-funding-your-business-1986
END:VEVENT

END:VCALENDAR
