BEGIN:VCALENDAR
VERSION:2.0
PRODID:-//ChamberMaster//Event Calendar 2.0//EN
METHOD:PUBLISH
X-PUBLISHED-TTL:P3D
REFRESH-INTERVAL:P3D
CALSCALE:GREGORIAN
BEGIN:VEVENT
DTSTART:20200714T171500Z
DTEND:20200714T190000Z
X-MICROSOFT-CDO-ALLDAYEVENT:FALSE
SUMMARY:July Noonbreak BBQ
DESCRIPTION:Come out to our monthly Noonbreak Luncheon! Hosted by the City of Caldwell. Join us in networking\, raffles\, and of course\, an amazing meal. 11:15-1:00pm\n\n\n\nWe'll see you there!
X-ALT-DESC;FMTTYPE=text/html:Come out to our monthly Noonbreak Luncheon! Hosted by the City of Caldwell. Join us in networking\, raffles\, and of course\, an amazing meal. 11:15-1:00pm<br />\n<br />\nWe&#39\;ll see you there!
LOCATION:Memorial Park
UID:e.2335.5468
SEQUENCE:3
DTSTAMP:20260424T113520Z
URL:https://business.caldwellchamber.org/events/details/july-noonbreak-bbq-5468
END:VEVENT

END:VCALENDAR
