BEGIN:VCALENDAR
VERSION:2.0
PRODID:-//ChamberMaster//Event Calendar 2.0//EN
METHOD:PUBLISH
X-PUBLISHED-TTL:P3D
REFRESH-INTERVAL:P3D
CALSCALE:GREGORIAN
BEGIN:VEVENT
DTSTART;VALUE=DATE:20190717
DTEND;VALUE=DATE:20190718
TRANSP:TRANSPARENT
X-MICROSOFT-CDO-ALLDAYEVENT:TRUE
SUMMARY:Kids can sew
DESCRIPTION:Learn the basics of sewing. Class fee includes all materials for project. No experience necessary. Ages 8-18
X-ALT-DESC;FMTTYPE=text/html:<span style="font-family: Arial\; font-size: 14.4px\;">Learn the basics of sewing. Class fee includes all materials for project. No experience necessary. Ages 8-18</span>
LOCATION:Bluebird Quilt Studio 311 14th Ave South Nampa\, ID 83651
UID:e.2335.5366
SEQUENCE:3
DTSTAMP:20260423T162916Z
URL:https://business.caldwellchamber.org/events/details/kids-can-sew-5366
END:VEVENT

END:VCALENDAR
