BEGIN:VCALENDAR
VERSION:2.0
PRODID:-//ChamberMaster//Event Calendar 2.0//EN
METHOD:PUBLISH
X-PUBLISHED-TTL:P3D
REFRESH-INTERVAL:P3D
CALSCALE:GREGORIAN
BEGIN:VEVENT
DTSTART:20200821T180000Z
DTEND:20200824T000000Z
X-MICROSOFT-CDO-ALLDAYEVENT:FALSE
SUMMARY:Kindred Vineyards Soft Opening
DESCRIPTION:Join us for a weekend in Idaho wine country! Our ribbon cutting ceremony will be Saturday at 2pm. Wine is available for purchase by the bottle and by the case. Our wine club is now open for new members! By joining club 77\, you will receive access to club discounts\, annual parties\, special events\, and more.
X-ALT-DESC;FMTTYPE=text/html:Join us for a weekend in Idaho wine country! Our ribbon cutting ceremony will be Saturday at 2pm. Wine is available for purchase by the bottle and by the case. Our wine club is now open for new members! By joining club 77\, you will receive access to club discounts\, annual parties\, special events\, and more.
LOCATION:14251 Frost Rd. Caldwell\, ID 83607
UID:e.2335.5698
SEQUENCE:3
DTSTAMP:20260424T130216Z
URL:https://business.caldwellchamber.org/events/details/kindred-vineyards-soft-opening-5698
END:VEVENT

END:VCALENDAR
