BEGIN:VCALENDAR
VERSION:2.0
PRODID:-//ChamberMaster//Event Calendar 2.0//EN
METHOD:PUBLISH
X-PUBLISHED-TTL:P3D
REFRESH-INTERVAL:P3D
CALSCALE:GREGORIAN
BEGIN:VEVENT
DTSTART:20160922T134500Z
DTEND:20160922T230000Z
X-MICROSOFT-CDO-ALLDAYEVENT:FALSE
SUMMARY:Leadership Caldwell Agri-Business
DESCRIPTION:Leadership Caldwell Class will meet at the Caldwell Chamber Office at 7:45 am and get on the bus to go to the University of Idaho Food Center for a tour\, then to Crookham Company for a tour and lunch.  The afternoon will be spent on a Hops tour in Wilder.
X-ALT-DESC;FMTTYPE=text/html:Leadership Caldwell Class will meet at the Caldwell Chamber Office at 7:45 am and get on the bus to go to the University of Idaho Food Center for a tour\, then to Crookham Company for a tour and lunch. &nbsp\;The afternoon will be spent on a Hops tour in Wilder.
LOCATION:Meet at the Chamber office at 7:45 am 704 Blaine Street
UID:e.2335.2006
SEQUENCE:3
DTSTAMP:20260421T152803Z
URL:https://business.caldwellchamber.org/events/details/leadership-caldwell-agri-business-2006
END:VEVENT

END:VCALENDAR
