BEGIN:VCALENDAR
VERSION:2.0
PRODID:-//ChamberMaster//Event Calendar 2.0//EN
METHOD:PUBLISH
X-PUBLISHED-TTL:P3D
REFRESH-INTERVAL:P3D
CALSCALE:GREGORIAN
BEGIN:VEVENT
DTSTART:20190414T010000Z
DTEND:20190414T010000Z
X-MICROSOFT-CDO-ALLDAYEVENT:FALSE
SUMMARY:Lewis and Tolkien: of Wardrobes and Rings
DESCRIPTION:Lewis and Tolkien: of Wardrobes and Rings
X-ALT-DESC;FMTTYPE=text/html:Lewis and Tolkien: of Wardrobes and Rings
LOCATION:Jewett Auditorium 2112 Cleveland Blvd Caldwell\, ID 83605
UID:e.2335.4983
SEQUENCE:3
DTSTAMP:20260423T115407Z
URL:https://business.caldwellchamber.org/events/details/lewis-and-tolkien-of-wardrobes-and-rings-4983
END:VEVENT

END:VCALENDAR
