BEGIN:VCALENDAR
VERSION:2.0
PRODID:-//ChamberMaster//Event Calendar 2.0//EN
METHOD:PUBLISH
X-PUBLISHED-TTL:P3D
REFRESH-INTERVAL:P3D
CALSCALE:GREGORIAN
BEGIN:VEVENT
DTSTART:20161102T170000Z
DTEND:20161102T190000Z
X-MICROSOFT-CDO-ALLDAYEVENT:FALSE
SUMMARY:LinkedIn® Strategies: Managing Your Brand
DESCRIPTION:LinkedIn  Strategies: Managing Your Brand Learn how to build and manage your personal and business brand by connecting and commenting on LinkedIn . This two-hour workshop provides an in-depth discussion of online networking and how to establish your reputation as a thought leader and subject matter expert. This workshop will discuss how to:\n\n  Create professional profile\n\n  Make the right connections\n\n  Research\, join and participate in groups\n\n  Post updates\, comments and articles\n\n  Utilize this platform to grow your business This workshop is typically offered once per month.\n\n\n\n  Dates: Tuesday\, August 23rd / Thursday\, October 13th / Wednesday\, November 2nd\n\n  Time: 11:00 a.m. to 1:00 p.m.\n\n  Cost: Complimentary -but you must register to reserve a space\n\n  Place: Zions Bank\, Business Resource Center\, 800 W. Main Street\, 6th Floor\, Boise\, ID\n\n  Parking: Eastman Garage or other downtown garages\n\n  Registration: Email idresources@zionsbank.com or call 208-501-7573 to reserve your seat\n\n  Seating: Limited to 18\n\n  Laptop: Bring your laptop or mobile device to get online
X-ALT-DESC;FMTTYPE=text/html:LinkedIn&reg\; Strategies: Managing Your Brand Learn how to build and manage your personal and business brand by connecting and commenting on LinkedIn&reg\;. This two-hour workshop provides an in-depth discussion of online networking and how to establish your reputation as a thought leader and subject matter expert. This workshop will discuss how to:<br />\n&bull\; Create professional profile<br />\n&bull\; Make the right connections<br />\n&bull\; Research\, join and participate in groups<br />\n&bull\; Post updates\, comments and articles<br />\n&bull\; Utilize this platform to grow your business This workshop is typically offered once per month.<br />\n<br />\n&bull\; Dates: Tuesday\, August 23rd / Thursday\, October 13th / Wednesday\, November 2nd<br />\n&bull\; Time: 11:00 a.m. to 1:00 p.m.<br />\n&bull\; Cost: Complimentary -but you must register to reserve a space<br />\n&bull\; Place: Zions Bank\, Business Resource Center\, 800 W. Main Street\, 6th Floor\, Boise\, ID<br />\n&bull\; Parking: Eastman Garage or other downtown garages<br />\n&bull\; Registration: Email idresources@zionsbank.com or call 208-501-7573 to reserve your seat<br />\n&bull\; Seating: Limited to 18<br />\n&bull\; Laptop: Bring your laptop or mobile device to get online
LOCATION:Zions Bank\, Business Resource Center\, 800 W. Main Street\, 6th Floor\, Boise\, ID
UID:e.2335.1997
SEQUENCE:3
DTSTAMP:20260421T140641Z
URL:https://business.caldwellchamber.org/events/details/linkedin-strategies-managing-your-brand-11-02-2016-1997
END:VEVENT

END:VCALENDAR
