BEGIN:VCALENDAR
VERSION:2.0
PRODID:-//ChamberMaster//Event Calendar 2.0//EN
METHOD:PUBLISH
X-PUBLISHED-TTL:P3D
REFRESH-INTERVAL:P3D
CALSCALE:GREGORIAN
BEGIN:VEVENT
DTSTART:20260422T180000Z
DTEND:20260422T190000Z
X-MICROSOFT-CDO-ALLDAYEVENT:FALSE
SUMMARY:Lunch & Learn: Is Your Business Built to Protect You?
DESCRIPTION:Taylor R. Brooks is a licensed attorney in the State of Idaho and founder of BrooksStone Law & Counsel\, PLLC. Taylor is a business lawyer specializing in business and contract law. Taylor's expertise is purposed towards helping Idaho business owners avoid lawsuits and unnecessary legal expense through his 3-step process known as a BrooksStone Foundation.\n \n\n\nAttendees will receive LLC guidance letters along with a brochure outlining how BrooksStone Law and Counsel can support their business needs.\n\nThis is a Chamber member exclusive event and there is no cost to attend. A light lunch will be provided. Space is very limited so get registered today.
X-ALT-DESC;FMTTYPE=text/html:<br />\n<!--StartFragment--><span style="font-size:16px\;"><span style="font-family:verdana\;"><span data-olk-copy-source="MessageBody">Taylor R. Brooks is a licensed attorney in the State of Idaho and founder of BrooksStone Law &amp\; Counsel\, PLLC. Taylor is a business lawyer specializing in business and contract law. Taylor&rsquo\;s expertise is purposed towards helping Idaho business owners avoid lawsuits and unnecessary legal expense through his 3-step process known as a BrooksStone Foundation.</span></span></span><!--EndFragment-->\n<div>&nbsp\;</div>\n\n<div>\n<p><span style="font-size:16px\;"><span style="font-family:verdana\;"><span style="white-space: pre-wrap\;">Attendees will receive LLC guidance letters along with a brochure outlining how BrooksStone Law and Counsel can support their business needs.</span></span></span></p>\n\n<p><span style="font-size:16px\;"><span style="font-family:verdana\;"><span style="white-space: pre-wrap\;">This is a Chamber member exclusive event and there is no cost to attend. A light lunch will be provided. Space is very limited so get registered today. </span></span></span></p>\n</div>\n
LOCATION:1001 Blaine Street\, Caldwell
UID:e.2335.7186
SEQUENCE:3
DTSTAMP:20260420T213947Z
URL:https://business.caldwellchamber.org/events/details/lunch-learn-is-your-business-built-to-protect-you-7186
END:VEVENT

END:VCALENDAR
