BEGIN:VCALENDAR
VERSION:2.0
PRODID:-//ChamberMaster//Event Calendar 2.0//EN
METHOD:PUBLISH
X-PUBLISHED-TTL:P3D
REFRESH-INTERVAL:P3D
CALSCALE:GREGORIAN
BEGIN:VEVENT
DTSTART:20170123T190000Z
DTEND:20170125T190000Z
X-MICROSOFT-CDO-ALLDAYEVENT:FALSE
SUMMARY:McCall Winter Carnival
DESCRIPTION:Dates: January 27\, 2017   February 5\, 2017\n\nTheme: 1 Valley\, 100 Years\n\n \n\nWelcome to the McCall Winter Carnival\, a celebration of all things winter! The McCall Winter Carnival was inspired by the Payette Lake Winter Games\, first held in 1924 when a train from Boise brought 248 visitors to McCall\, Idaho. The official McCall Winter Carnival started in the 1960s and over the years\, the Carnival has grown into an iconic Idaho event bringing more than 60\,000 people to McCall each year!\n\nDuring Carnival\, enjoy our famous snow sculptures\, Torchlight and Mardi Gras Parades\, live music\, daily events spanning everything from comedy shows to art auctions\, snowbike races to the Monster Dog Pull and much more.\n\nWe invite you to explore our schedule of events   and be sure to check back often as we will be adding new events each week!\n\n\n\nFor more information\, click here.
X-ALT-DESC;FMTTYPE=text/html:<span style="color:#585E62\;"><span style="font-family:arial\,sans-serif\;"><span style="font-size:13.5pt\;">Dates:&nbsp\;<strong><span style="border:none windowtext 1.0pt\;padding:0in\;">January 27\, 2017 &ndash\; February 5\, 2017</span></strong><br />\nTheme:&nbsp\;<strong><span style="border:none windowtext 1.0pt\;padding:0in\;">1 Valley\, 100 Years</span></strong></span></span></span><br />\n&nbsp\;<br />\n<span style="font-family:arial\,sans-serif\;">Welcome to the McCall Winter Carnival\, a celebration of all things winter! The McCall Winter Carnival was inspired by the Payette Lake Winter Games\, first held in 1924 when a train from Boise brought 248 visitors to McCall\, Idaho. The official McCall Winter Carnival started in the 1960s and over the years\, the Carnival has grown into an iconic Idaho event bringing more than 60\,000 people to McCall each year!</span><br />\n<span style="font-family:arial\,sans-serif\;">During Carnival\, enjoy our famous snow sculptures\, Torchlight and Mardi Gras Parades\, live music\, daily events spanning everything from comedy shows to art auctions\, snowbike races to the Monster Dog Pull and much more.</span><br />\n<span style="font-family:arial\,sans-serif\;">We invite you to explore our schedule of events &ndash\; and be sure to check back often as we will be adding new events each week!</span><br />\n<br />\n<a href="http://mccallchamber.org/winter-carnival/">For more information\, click here.</a><br />\n<br />\n&nbsp\;
LOCATION:
UID:e.2335.1061
SEQUENCE:3
DTSTAMP:20260421T140255Z
URL:https://business.caldwellchamber.org/events/details/mccall-winter-carnival-01-23-2017-1061
END:VEVENT

END:VCALENDAR
