BEGIN:VCALENDAR
VERSION:2.0
PRODID:-//ChamberMaster//Event Calendar 2.0//EN
METHOD:PUBLISH
X-PUBLISHED-TTL:P3D
REFRESH-INTERVAL:P3D
CALSCALE:GREGORIAN
BEGIN:VEVENT
DTSTART:20191024T193000Z
DTEND:20191024T213000Z
X-MICROSOFT-CDO-ALLDAYEVENT:FALSE
SUMMARY:Medicare 101
DESCRIPTION:Getting ready for retirement? Have questions about your current Medicare plan? Learn the ins and outs of Medicare in this two-hour session. Ages 18+
X-ALT-DESC;FMTTYPE=text/html:Getting ready for retirement? Have questions about your current Medicare plan? Learn the ins and outs of Medicare in this two-hour session. Ages 18+
LOCATION:Caldwell Public Library 1010 Dearborn St
UID:e.2335.5415
SEQUENCE:3
DTSTAMP:20260423T205042Z
URL:https://business.caldwellchamber.org/events/details/medicare-101-5415
END:VEVENT

END:VCALENDAR
