BEGIN:VCALENDAR
VERSION:2.0
PRODID:-//ChamberMaster//Event Calendar 2.0//EN
METHOD:PUBLISH
X-PUBLISHED-TTL:P3D
REFRESH-INTERVAL:P3D
CALSCALE:GREGORIAN
BEGIN:VEVENT
DTSTART:20180528T173000Z
DTEND:20180528T210000Z
X-MICROSOFT-CDO-ALLDAYEVENT:FALSE
SUMMARY:Memorial Day Remembrance Program
DESCRIPTION:Memorial Day Remembrance Program\n\n\n\nCaldwell\, Idaho (May 28\, 2018) Hillcrest Memorial Gardens will host a Memorial Day Remembrance Program\, Monday\, May 28\, 2018. Please join us for a day of remembering and celebrating. We will begin serving free refreshments at 11:30 am and the program will begin at 1:00 pm.\n\n\n\nThis service is designed to help families and friends remember and honor those that have served and are serving on our Armed Forces\, through music and reflection. Col. Curt Bowers will give a keynote speech that will include a message of hope and comfort for those grieving and remembering. Idaho Military Vehicle Preservation Association will have their personal military vehicles on display. Idaho Doves will be providing a dove release.\n\n\n\nIt will be a wonderful day of remembering celebrating and honoring our loved ones.\n\n\n\nThe event is FREE and open to everyone in the community.\n\n\n\nHillcrest Memorial Gardens\n\n15862 S. Indiana Ave\n\nCaldwell\, ID 83607\n\n208-459-4949\n\nwww.hillcrestmemorialgarden.com\n\n\n\n(Corner of Karcher Road and Indiana Ave)
X-ALT-DESC;FMTTYPE=text/html:<span style="font-family:calibri\,sans-serif\;"><span style="font-size:11.0pt\;">Memorial Day Remembrance Program<br />\n<br />\nCaldwell\, Idaho (May 28\, 2018) Hillcrest Memorial Gardens will host a Memorial Day Remembrance Program\, Monday\, May 28\, 2018. Please join us for a day of remembering and celebrating. We will begin serving free refreshments at 11:30 am and the program will begin at 1:00 pm.<br />\n<br />\nThis service is designed to help families and friends remember and honor those that have served and are serving on our Armed Forces\, through music and reflection. Col. Curt Bowers will give a keynote speech that will include a message of hope and comfort for those grieving and remembering. Idaho Military Vehicle Preservation Association will have their personal military vehicles on display. Idaho Doves will be providing a dove release.<br />\n<br />\nIt will be a wonderful day of remembering celebrating and honoring our loved ones.<br />\n<br />\nThe event is FREE and open to everyone in the community.<br />\n<br />\nHillcrest Memorial Gardens<br />\n15862 S. Indiana Ave<br />\nCaldwell\, ID 83607<br />\n208-459-4949<br />\n<a href="http://www.hillcrestmemorialgarden.com">www.hillcrestmemorialgarden.com</a><br />\n<br />\n(Corner of Karcher Road and Indiana Ave)</span></span>
LOCATION:
UID:e.2335.3424
SEQUENCE:3
DTSTAMP:20260422T155046Z
URL:https://business.caldwellchamber.org/events/details/memorial-day-remembrance-program-3424
END:VEVENT

END:VCALENDAR
