BEGIN:VCALENDAR
VERSION:2.0
PRODID:-//ChamberMaster//Event Calendar 2.0//EN
METHOD:PUBLISH
X-PUBLISHED-TTL:P3D
REFRESH-INTERVAL:P3D
CALSCALE:GREGORIAN
BEGIN:VEVENT
DTSTART:20170426T170000Z
DTEND:20170426T190000Z
X-MICROSOFT-CDO-ALLDAYEVENT:FALSE
SUMMARY:Money-Making Marketing™: How to Reach\, Keep and Grow Your Customer Base
DESCRIPTION:Money-Making Marketing : How to Reach\, Keep and Grow Your Customer Base\n\n\n\nAre you frustrated by a lack of customers or clients? Is marketing a mystery to you? Find out how to create a strategic marketing plan and implement low-cost or no-cost tactics for your business.\n\n\n\nThis workshop will:\n\n  Define branding and its relevance to revenues\n\n  Describe the difference between marketing strategy and tactics\n\n  Provide resources to develop a marketing plan for your business\n\n  Explain how marketing\, public relations\, sales\, and customer service work together to build and sustain the success of your brand\n\n  Provide an overview of marketing tools including websites\, social media\, newsletters and more
X-ALT-DESC;FMTTYPE=text/html:Money-Making Marketing&trade\;: How to Reach\, Keep and Grow Your Customer Base<br />\n<br />\nAre you frustrated by a lack of customers or clients? Is marketing a mystery to you? Find out how to create a strategic marketing plan and implement low-cost or no-cost tactics for your business.<br />\n<br />\nThis workshop will:<br />\n&bull\; Define branding and its relevance to revenues<br />\n&bull\; Describe the difference between marketing strategy and tactics<br />\n&bull\; Provide resources to develop a marketing plan for your business<br />\n&bull\; Explain how marketing\, public relations\, sales\, and customer service work together to build and sustain the success of your brand<br />\n&bull\; Provide an overview of marketing tools including websites\, social media\, newsletters and more<br />\n<br />\n&nbsp\;
LOCATION:Place: Zions Bank\, Business Resource Center\, 800 W. Main Street\, 6th Floor\, Boise\, ID Parking: Eastman Garage or other downtown garages
UID:e.2335.2344
SEQUENCE:3
DTSTAMP:20260421T191027Z
URL:https://business.caldwellchamber.org/events/details/money-making-marketing-how-to-reach-keep-and-grow-your-customer-base-04-26-2017-2344
END:VEVENT

END:VCALENDAR
