BEGIN:VCALENDAR
VERSION:2.0
PRODID:-//ChamberMaster//Event Calendar 2.0//EN
METHOD:PUBLISH
X-PUBLISHED-TTL:P3D
REFRESH-INTERVAL:P3D
CALSCALE:GREGORIAN
BEGIN:VEVENT
DTSTART:20161129T180000Z
DTEND:20161129T200000Z
X-MICROSOFT-CDO-ALLDAYEVENT:FALSE
SUMMARY:Money-Making Marketing™: How to Reach\, Keep and Grow Your Customer Base
DESCRIPTION:Money-Making Marketing : How to Reach\, Keep and Grow Your Customer Base Are you frustrated by a lack of customers or clients? Is marketing a mystery to you? Find out how to create a strategic marketing plan and implement low-cost or no-cost tactics for your business.\n\n\n\nThis workshop will:\n\n  Define branding and its relevance to revenues\n\n  Describe the difference between marketing strategy and tactics\n\n  Provide resources to develop a marketing plan for your business\n\n  Explain how marketing\, public relations\, sales\, and customer service work together to build and sustain the success of your brand\n\n  Provide an overview of marketing tools including websites\, social media\, newsletters and more\n\n\n\nThis workshop is typically offered once per month.\n\n  Dates: Wednesday\, August 17th / Tuesday\, September 27th / Tuesday\, October 25th / Tuesday\, November 29th\n\n  Time: 11:00 a.m. to 1:00 p.m.   Cost: Complimentary -but you must register to reserve a space\n\n  Place: Zions Bank\, Business Resource Center\, 800 W. Main Street\, 6th Floor\, Boise\, ID\n\n  Parking: Eastman Garage or other downtown garages\n\n  Registration: Email idresources@zionsbank.com or call 208-501-7573 to reserve your seat\n\n  Seating: Limited to 18
X-ALT-DESC;FMTTYPE=text/html:Money-Making Marketing&trade\;: How to Reach\, Keep and Grow Your Customer Base Are you frustrated by a lack of customers or clients? Is marketing a mystery to you? Find out how to create a strategic marketing plan and implement low-cost or no-cost tactics for your business.<br />\n<br />\nThis workshop will:<br />\n&bull\; Define branding and its relevance to revenues<br />\n&bull\; Describe the difference between marketing strategy and tactics<br />\n&bull\; Provide resources to develop a marketing plan for your business<br />\n&bull\; Explain how marketing\, public relations\, sales\, and customer service work together to build and sustain the success of your brand<br />\n&bull\; Provide an overview of marketing tools including websites\, social media\, newsletters and more<br />\n<br />\nThis workshop is typically offered once per month.<br />\n&bull\; Dates: Wednesday\, August 17th / Tuesday\, September 27th / Tuesday\, October 25th / Tuesday\, November 29th<br />\n&bull\; Time: 11:00 a.m. to 1:00 p.m. &bull\; Cost: Complimentary -but you must register to reserve a space<br />\n&bull\; Place: Zions Bank\, Business Resource Center\, 800 W. Main Street\, 6th Floor\, Boise\, ID<br />\n&bull\; Parking: Eastman Garage or other downtown garages<br />\n&bull\; Registration: Email idresources@zionsbank.com or call 208-501-7573 to reserve your seat<br />\n&bull\; Seating: Limited to 18
LOCATION:Zions Bank\, Business Resource Center\, 800 W. Main Street\, 6th Floor\, Boise\, ID
UID:e.2335.2000
SEQUENCE:3
DTSTAMP:20260421T124947Z
URL:https://business.caldwellchamber.org/events/details/money-making-marketing-how-to-reach-keep-and-grow-your-customer-base-11-29-2016-2000
END:VEVENT

END:VCALENDAR
