BEGIN:VCALENDAR
VERSION:2.0
PRODID:-//ChamberMaster//Event Calendar 2.0//EN
METHOD:PUBLISH
X-PUBLISHED-TTL:P3D
REFRESH-INTERVAL:P3D
CALSCALE:GREGORIAN
BEGIN:VEVENT
DTSTART:20190511T170000Z
DTEND:20190511T230000Z
X-MICROSOFT-CDO-ALLDAYEVENT:FALSE
SUMMARY:Mother's Day Vintage Market
DESCRIPTION:Celebrate Mother's Day with two types of vintage: antiques and wine! Indian Creek Plaza will transform into a bountiful flea market with furniture\, pottery\, clocks\, jewelry\, and the perfect odds and ends for any home. The market will be combined with Blue Barn Produce's Spring Fling vendor event which has been moved to Indian Creek Plaza! Vintage Market 60+ Vendors 11 am - 5 pm Make sure to say you are 'interested' in attending the event on Facebook for more details and vendor announcements! Food and Wine Pairing Experience 12 - 2 pm\, $30 per ticket Chef Gordon Epperson has created three unique food pairings inspired by local Vizcaya wine from the Sunnyslope Wine Trail! Purchase your ticket now! Make & Take with Lilac Lane 2 - 4 pm\, $30 square sign\, $40 rectangle sign Create a one-of-a-kind sign for your home at this make & take class. Tickets extremely limited. Honey-Do Auction 4:30 pm Hang around to bid on your very own handsome handyman to help finish your honey-do list!
X-ALT-DESC;FMTTYPE=text/html:Celebrate Mother&rsquo\;s Day with two types of vintage: antiques and wine! Indian Creek Plaza will transform into a bountiful flea market with furniture\, pottery\, clocks\, jewelry\, and the perfect odds and ends for any home. The market will be combined with Blue Barn Produce&rsquo\;s Spring Fling vendor event which has been moved to Indian Creek Plaza! Vintage Market 60+ Vendors 11 am - 5 pm Make sure to say you are &#39\;interested&#39\; in attending the event on Facebook for more details and vendor announcements! Food and Wine Pairing Experience 12 - 2 pm\, $30 per ticket Chef Gordon Epperson has created three unique food pairings inspired by local Vizcaya wine from the Sunnyslope Wine Trail! Purchase your ticket now! Make &amp\; Take with Lilac Lane 2 - 4 pm\, $30 square sign\, $40 rectangle sign Create a one-of-a-kind sign for your home at this make &amp\; take class. Tickets extremely limited. Honey-Do Auction 4:30 pm Hang around to bid on your very own handsome handyman to help finish your honey-do list!
LOCATION:Indian Creek Plaza 120 S Kimball Ave. Caldwell\, ID 83605
UID:e.2335.5073
SEQUENCE:3
DTSTAMP:20260423T145524Z
URL:https://business.caldwellchamber.org/events/details/mother-s-day-vintage-market-5073
END:VEVENT

END:VCALENDAR
