BEGIN:VCALENDAR
VERSION:2.0
PRODID:-//ChamberMaster//Event Calendar 2.0//EN
METHOD:PUBLISH
X-PUBLISHED-TTL:P3D
REFRESH-INTERVAL:P3D
CALSCALE:GREGORIAN
BEGIN:VEVENT
DTSTART:20161013T150000Z
DTEND:20161014T220000Z
X-MICROSOFT-CDO-ALLDAYEVENT:FALSE
SUMMARY:Nampa Family Justice Center Domestic Violence 101
DESCRIPTION:The Nampa Family Justice Center would like to invite you to join us for our annual\, FREE 2 day training October 13 and 14 2016. This training includes  varies topics on the subject of abuse (see agenda attached) presented by experts in their field.  We welcome professionals and community members involved that would like to be more informed on domestic violence\, child abuse\, elder abuse\, sexual assault and child predators. This year we have added two more topics to our agenda and are planning to have a resource table available for information sharing.\n\n \n\nAlso please note:\n\n \n\n- Seating is limited.\n\n-Coffee and tea will be provided.\n\n- A detailed certificate of completion will be mailed to you following the training.\n\n-Possible CEUs and Post credit available.
X-ALT-DESC;FMTTYPE=text/html:The Nampa Family Justice Center would like to invite you to join us for our annual\, <strong>FREE</strong> 2 day training October 13 and 14 2016. This training includes &nbsp\;varies topics on the subject of abuse (see agenda attached) presented by experts in their field. &nbsp\;We welcome professionals and community members involved that would like to be more informed on domestic violence\, child abuse\, elder abuse\, sexual assault and child predators. This year we have added two more topics to our agenda and are planning to have a resource table available for information sharing.<br />\n&nbsp\;<br />\nAlso please note:<br />\n&nbsp\;<br />\n- Seating is limited.<br />\n-Coffee and tea will be provided.<br />\n- A detailed certificate of completion will be mailed to you following the training.<br />\n-Possible CEUs and Post credit available.&nbsp\;
LOCATION:Nampa Family Justice Center 1305 3rd Street South Nampa\, ID 83651
UID:e.2335.2011
SEQUENCE:3
DTSTAMP:20260421T153234Z
URL:https://business.caldwellchamber.org/events/details/nampa-family-justice-center-domestic-violence-101-2011
END:VEVENT

END:VCALENDAR
